BEGIN:VCALENDAR
VERSION:2.0
PRODID:-//Eco Life Experience - ECPv6.2.6.1//NONSGML v1.0//EN
CALSCALE:GREGORIAN
METHOD:PUBLISH
X-ORIGINAL-URL:https://ecolife-experience.com
X-WR-CALDESC:Events for Eco Life Experience
REFRESH-INTERVAL;VALUE=DURATION:PT1H
X-Robots-Tag:noindex
X-PUBLISHED-TTL:PT1H
BEGIN:VTIMEZONE
TZID:UTC
BEGIN:STANDARD
TZOFFSETFROM:+0000
TZOFFSETTO:+0000
TZNAME:UTC
DTSTART:20240101T000000
END:STANDARD
END:VTIMEZONE
BEGIN:VEVENT
DTSTART;TZID=UTC:20240417T193000
DTEND;TZID=UTC:20240626T213000
DTSTAMP:20260422T024734
CREATED:20240208T105805Z
LAST-MODIFIED:20240412T102652Z
UID:11951-1713382200-1719437400@ecolife-experience.com
SUMMARY:Curso Introdução à Comunicação Empática / Introduction to Empathetic Communication Course
DESCRIPTION:A Comunicação Empática é baseada no modelo da Comunicação Não Violenta (CNV)\, desenvolvida por Marshall Rosenberg como uma ferramenta simples e eficaz para melhorar a nossa capacidade de comunicar em todos os relacionamentos\,  aproximando-nos do outro e de nós mesmos. \n​Tem como principais objetivos aumentar a consciência sobre os sentimentos\, pensamentos e necessidades presentes em cada interação\, desenvolver a compaixão por nós e pelo outro. \nPermite-nos ver com mais clareza o que impede a nossa comunicação de ser eficaz e mostra-nos o que podemos fazer de maneira diferente para comunicar de uma forma mais empática e que funcione melhor. \nContribui para encontrar novas formas de lidar com conflitos e mal-entendidos no nosso dia a dia. \n  \nComo funciona? \nEste curso tem principalmente um carácter prático\, através da realização de exercícios a pares ou em pequenos grupos\, baseados em situações concretas do dia-a-dia dos participantes. \nAo mesmo tempo\, queremos que qualquer pessoa possa participar para aprender e praticar a CNV\, quer já tenha feito formações ou lido livros\, quer nunca sequer tenha ouvido falar nela antes! \nDatas | 17 de abril a 26 de junho (todas as quartas-feiras) \n\n\nContribuições: \nEntre 30€-130€ \nLocal | Eco Retiro de Galamares\, Sintra \nInscrições | AQUI  \nFacilitadores – Nós somos dois irmãos\, o Carlos e o Luís e tivemos o primeiro contacto com a CNV em 2017. A partir daí não parámos de aprender e de participar em cursos e grupos de prática com professores certificados. Isto permite um aprofundar contínuo desta linguagem e das ferramentas que permitem partilhá-la com cada vez mais pessoas\, o que nos levou a fazer também o treino como formadores de CNV com Yoram Mosenzon. \n  \n\nEN: \nEmpathic Communication is based on Non Violent Communication Model (NVC)\, developed by Marshall Rosenberg as a simple and efective tool to improve our capacity of communicating in all of our relationships\, reducing the distance that separates us from others and fro ourselves. \nIt’s main objectives are to amplify the consciousness on feelings\, thoughts and necessities present in each interaction\, to develop compassion for ourselves and others. \nIt allows us to see more clearly what stops our communication from being effective and it shows us what we can do differently to communicate in a more empathetic way. \nIt contributes to find new ways to deal with conflicts and misunderstoods on our day to day life. \n  \nHow does it work? \n\n\nThis course has mainly a practical character\, through exercises in pairs or small groups\, based on concrete situations of participants every day life examples. \nAt the same time\, we want that anyone can participate to learn and practice NVC\, wether they have had a course on the topic\, read the book before or never even heard about it! \n\nDates| April 17th to 26th June (every Wednesdays)\n\nContributions:\nBetween 30€-130€ \n\nLocation | Eco Retiro de Galamares\, Sintra \nSign up at | HERE  \nFacilitators – We are two brothers\, Carlos and Luís\, and we had our first contact with NVC in 2017. Since then\, we haven’t stopped learning and participating in courses and practice groups with certified teachers. This allows for continuous deepening of this language and the tools that enable sharing it with more and more people\, which led us to also undergo training as NVC trainers with Yoram Mosenzon.
URL:https://ecolife-experience.com/calendario/curso_cnv_abril_junho/
LOCATION:Eco Retiro de Galamares\, Galamares\, 2710-249 SINTRA\, Portugal
CATEGORIES:calendario,Courses,Cursos
ATTACH;FMTTYPE=image/png:https://ecolife-experience.com/wp-content/uploads/2023/04/Screenshot-2024-02-08-105127.png
END:VEVENT
BEGIN:VEVENT
DTSTART;TZID=UTC:20240519T100000
DTEND;TZID=UTC:20240519T113000
DTSTAMP:20260422T024734
CREATED:20240117T125513Z
LAST-MODIFIED:20240314T122020Z
UID:11835-1716112800-1716118200@ecolife-experience.com
SUMMARY:Caminhada na Quinta da Ribafria - Famílias
DESCRIPTION:Caminhar é uma terapia que promove uma sensação de bem-estar e liberdade. \nCaminhada dirigida mediante dinâmicas pedagógicas sobre a natureza\, por exemplo\, um caça ao tesouro conforme a estação do ano\, dando a conhecer características dos animais e plantas. \nNota| Trazer caixinha para levar os tesouros encontrados. \nPercurso | Quinta da Ribafria \nInscrições | info@ecolife-experience.com // 968 694 146 \nValor| 20€ – 1 adulto e 1 criança (bebés de 1 ano até crianças de 4 anos). (s/iva) \nPor 1 ADULTO/CRIANÇA adicional valor 10€ \nNota | Trazer roupa para sujar (adulto e bebé/criança). \n\n\nFormadora | Helena Pedro \n\n\nDesde criança que sou apaixonada por plantas e curiosa pelas suas formas\, cores e propriedades. Formei-me em Eng. do Ambiente e através do Ser Natureza promovo a conservação do reino vegetal\, dando a conhecer as suas potencialidades para um mundo mais sustentável.
URL:https://ecolife-experience.com/calendario/caminhadas-familias-quintadaribafria_maio/
LOCATION:Sintra\, Sintra\, Portugal
CATEGORIES:calendario,Workshops,Workshops
ATTACH;FMTTYPE=image/jpeg:https://ecolife-experience.com/wp-content/uploads/2021/03/caminhada-castelo.jpg
END:VEVENT
BEGIN:VEVENT
DTSTART;TZID=UTC:20240519T100000
DTEND;TZID=UTC:20240519T130000
DTSTAMP:20260422T024734
CREATED:20240314T121640Z
LAST-MODIFIED:20240314T121640Z
UID:12118-1716112800-1716123600@ecolife-experience.com
SUMMARY:Workshop de Hortas Biológicas | Uma experiência prática
DESCRIPTION:Neste workshop de horticultura biológica\, os participantes sairão do workshop não apenas com conhecimento teórico\, mas também com habilidades práticas relacionadas ao trabalho e regeneração do solo\, técnicas de plantio e semeadura\, cuidados com a horta\, práticas de rega\, manutenção\, compostagem\, fertilização orgânica\, e métodos ecológicos para o controlo de pragas e doenças. \nAlguns tópicos que vamos abordar: \n\nFertilização\nTécnicas de manutenção da horta\nCompostagem\nComo fazer adubos líquidos\nBiodiversidade na horta\nTécnicas ecológicas de controlo de pragas e doenças\nPreparação de fitossanitários ecológicos\nTécnicas de plantio e semeadura\nRega\n\n💰Valor: 40€ (s/iva) \nInscrições | info@ecolife-experience.com // 968 694 146 \nNa agricultura biológica só são utilizadas práticas que não afetem o ambiente\, todos os fertilizantes utilizados são naturais\, provenientes da compostagem dos resíduos orgânicos\, com culturas adaptadas às condições de cada a região\, onde a saúde do solo é fundamental tanto para as plantas\, como os seres vivos que com ela coexistem\, preciosos auxiliares no combate de pragas e doenças. \nA agricultura biológica enquadra-se no verdadeiro desenvolvimento sustentável\, pois respeita profundamente a qualidade de vida das gerações presentes e futuras\, e sobretudo esta casa chamada Terra. \n  \n\n\nFormador | João Santos – Técnico agrícola\, com estágio em AB em França (Nature et Progrès\, Provence). – Horticultor biológico. – Co-fundador da Agrobio. – Ligado à Agricultura Biológica desde 1982\, foi agricultor bio\, empresário na área de distribuição ao domicílio de produtos biológicos e responsável pelo setor hortofrutícola da Biocoop (com funções de negociação\, aprovisionamento e apoio aos agricultores). – Formador em Horticultura Biológica desde 2010. \n\n 
URL:https://ecolife-experience.com/calendario/workshop-de-hortas-biologicas-maio/
LOCATION:Eco Retiro de Galamares\, Galamares\, 2710-249 SINTRA\, Portugal
CATEGORIES:calendario,Lista,Workshops
ATTACH;FMTTYPE=image/jpeg:https://ecolife-experience.com/wp-content/uploads/2021/03/hortas-1.jpg
END:VEVENT
BEGIN:VEVENT
DTSTART;TZID=UTC:20240519T140000
DTEND;TZID=UTC:20240519T180000
DTSTAMP:20260422T024734
CREATED:20240314T122223Z
LAST-MODIFIED:20240422T113654Z
UID:12169-1716127200-1716141600@ecolife-experience.com
SUMMARY:Introdução à Impressão botânica em tecido e papel - Introduction to Botanical Printing on Fabric and Paper
DESCRIPTION:A impressão botânica é uma técnica que alia a arte têxtil à sustentabilidade\, sendo por isso um momento de slow living onde aprendemos a valorizar os recursos naturais envolventes. \nNa oficina\, vamos aprender\, fazendo\, conversar sobre as fibras\, como preparar os tecidos para a fixação\, saber como imprimir folhas e flores em tecido e papel\, e identificar plantas com capacidade tinturial. \nCada participante levará para casa impressos um saco\, um lenço e cartões\, e será capaz de replicar a técnica em criações upcycling ou não\, com apoio do mini guia digital. \nOficina ideal para curiosos e apaixonados por plantas! \nValor | 50 € (s/iva) \nLocal | Eco Retiro de Galamares \nInscrições | info@ecolife-experience.com // 968 694 146 \nFormadora | Helena Pedro – Desde criança que sou apaixonada por plantas e curiosa pelas suas formas\, cores e propriedades. Formei-me em Eng. do Ambiente e através do Ser Natureza promovo a conservação do reino vegetal\, dando a conhecer as suas potencialidades para um mundo mais sustentável! \nEN \nBotanical printing is a technique that combines textile art with sustainability\, making it a moment of slow living where we learn to appreciate the surrounding natural resources. \nIn the workshop\, we will learn by doing\, discussing fibers\, how to prepare fabrics for fixation\, understanding how to print leaves and flowers on fabric and paper\, and identifying plants with dyeing capabilities. \nEach participant will take home printed items such as a bag\, a scarf\, and cards\, and will be able to replicate the technique in upcycled or non-upcycled creations with the support of a mini digital guide. \nIdeal workshop for plant enthusiasts and the curious! \nCost: €50 (VAT not included) \nLocation: Eco Retiro de Galamares \nRegistration: info@ecolife-experience.com // +351 968 694 146 \nInstructor: Helena Pedro – Since childhood\, I have been passionate about plants and curious about their shapes\, colors\, and properties. I graduated in Environmental Engineering\, and through Ser Natureza\, I promote the conservation of the plant kingdom\, showcasing its potential for a more sustainable world!
URL:https://ecolife-experience.com/calendario/workshop-impressao-botanica-em-tecido-e-papel-maio/
LOCATION:Eco Retiro de Galamares\, Galamares\, 2710-249 SINTRA\, Portugal
CATEGORIES:calendario,Lista,Workshops
ATTACH;FMTTYPE=image/jpeg:https://ecolife-experience.com/wp-content/uploads/2023/03/IMG-20220327-WA0024.jpg
END:VEVENT
END:VCALENDAR