BEGIN:VCALENDAR
VERSION:2.0
PRODID:-//Eco Life Experience - ECPv6.2.6.1//NONSGML v1.0//EN
CALSCALE:GREGORIAN
METHOD:PUBLISH
X-WR-CALNAME:Eco Life Experience
X-ORIGINAL-URL:https://ecolife-experience.com
X-WR-CALDESC:Events for Eco Life Experience
REFRESH-INTERVAL;VALUE=DURATION:PT1H
X-Robots-Tag:noindex
X-PUBLISHED-TTL:PT1H
BEGIN:VTIMEZONE
TZID:UTC
BEGIN:STANDARD
TZOFFSETFROM:+0000
TZOFFSETTO:+0000
TZNAME:UTC
DTSTART:20210101T000000
END:STANDARD
END:VTIMEZONE
BEGIN:VEVENT
DTSTART;TZID=UTC:20211204T100000
DTEND;TZID=UTC:20211204T130000
DTSTAMP:20260425T171302
CREATED:20210827T170040Z
LAST-MODIFIED:20211126T164256Z
UID:8445-1638612000-1638622800@ecolife-experience.com
SUMMARY:Easy Kids Easy People | 1.º\, 2.º\, 3.º e 4.º Sábado de cada mês
DESCRIPTION:Emoções\, Intuição\, Criatividade e Natureza \nUm projecto de Yoga e Meditação que contempla actividades que estimulam tanto o processo criativo da criança\, como o seu lado mais espiritual e intuitivo. Dinâmicas que ajudam e potenciam o seu desenvolvimento natural e geral\, com respeito por si mesmo\, enquanto indivíduo singular\, e na sua relação com os outros.\nAcções que permeiam o contacto com a natureza\, a observação\, a concentração e o respeito pelos processos naturais. Actividades que trabalham a expressão através da arte\, estimulando o seu sentido crítico. Acreditamos que este projecto vai apoiar famílias no seu equilíbrio emocional\, numa fase tão complicada como a que vivemos actualmente. Criar uma rotina é fundamental para uma mudança estrutural\, por isso o Easy Kids Easy People. \n  \nInformações: \nEasy Kids Easy People | Todos os Sábado do mês \n10h00/10h45 – Yoga e Meditação – idades dos 2 aos 5 anos. \n35 euros / mês – Só a Criança ( 1 sessão de 45 minutos  todas as semanas) \n45 euros / mês –  Criança e Pai ou Mãe ( 1 sessão de 45 minutos todas as semanas) \n* \nEasy Kids Easy People | Todas as 5.ª feiras do mês \n18h00/18h45 – Yoga e Meditação – idades dos 3 aos 10 anos. \n35 euros / mês – Só a Criança ( 1 sessão de 45 minutos  todas as semanas) \nSessões esporádicas em grupo 15 euros/ 1h \nSessões privadas 30 euros / por sessão/ 1h \n* \nEasy Kids Easy People | Todos os Sábado do mês \n10h45/12h45 – Yoga e Meditação – 1h e Actividades Natureza e Arte 1h \nIdades dos 6 aos 11 anos e \nIdades dos  12 aos 15 anos. \n( 2 grupos separados que realizam as actividades de forma alternada). \n60 euros / mês  – ( 1 sessão de 2h todos os sábados). \nSessões esporádicas em grupo 20 euros/ 2hora \n* \nSó Yoga e Meditação – 35 euros / mês \nou \nSó Actividades Natureza & Arte – 35 euros / mês \n  \nLocal | Eco Retiro de Galamares\, Sintra \nInformações e Inscrições | sofia.fonseca@ecolife-experience.com // 968 694 146 \nFormadora: Susana Dias (Psicóloga Clinica\, Terapeuta Holística) e Inês Lino (Designer de Produto e Artesã)
URL:https://ecolife-experience.com/calendario/easy-kids-easy-people-04-dezembro/
LOCATION:Eco Retiro de Galamares\, Galamares\, 2710-249 SINTRA\, Portugal
CATEGORIES:calendario,Sofia Fonseca,Susana Dias,Workshops
ATTACH;FMTTYPE=image/png:https://ecolife-experience.com/wp-content/uploads/2021/08/Banner-sobre-saude-geral-com-orientacoes-e-seguranca-com-ilustracao-de-clinica-amigavel-em-azul-e-rosa-e1637780983220.png
END:VEVENT
BEGIN:VEVENT
DTSTART;TZID=UTC:20211212T100000
DTEND;TZID=UTC:20211212T113000
DTSTAMP:20260425T171302
CREATED:20210315T120516Z
LAST-MODIFIED:20210315T165504Z
UID:6947-1639303200-1639308600@ecolife-experience.com
SUMMARY:Workshop Como Ser Mais Eco Sustentável
DESCRIPTION:Ser mais sustentável\, não passa apenas por reduzir a quantidade de plástico que utilizamos\, ou comprar tudo biológico\, ou reciclar. Ser sustentável implica\, ter consciência e olhar critico\, sobre tantas coisas que nos ensinaram e que impactam negativamente na saúde do planeta e de todos os seres vivos que nele habitam\, inclusivamente o Homem. Nós! \nEste Workshop visa despertar essa consciência critica e transformar essa consciência numa prática de hábitos diários. \n\nMudança de paradigma\, uma mudança de forma de olhar o mundo.\nNovos Conceitos: Custos\, Lixo; alimentos; saudável; qualidade; limpeza\, tempo.\nIdentificar necessidades afetivas\nRecusar\, Reduzir\, Reutilizar\, Repensar\, Reciclar\nMudança de hábitos de consumo\nBenefícios; financeiros\, saúde\, tempo.\n\nObjectivos: que os formandos consigam ter noção do impacto dos seus hábitos e que consigam implementar novos hábitos mais sustentáveis. \nDestinatários | Todos os que queiram aprender a ter hábitos mais sustentáveis e um consumo mais consciente\, no seu dia-a-dia. \nValor on-line | 15\,00€. Depois da inscrição e pagamento receberá um link para poder aceder ao Workshop via Zoom. \nValor Presencial | 20\,00€ \nInclui: Workshop durante 1h30 horas; \nLocal: Eco Retiro de Galamares\, Sintra \nInscrições | sofia.fonseca@ecolife-experience.com // 968 694 146 \nFormadora: Sofia Fonseca (Licenciada em Marketing & Publicidade) Mentora Eco Life Experience
URL:https://ecolife-experience.com/calendario/workshop-como-ser-mais-eco-sustentavel/
LOCATION:Eco Retiro de Galamares\, Galamares\, 2710-249 SINTRA\, Portugal
CATEGORIES:calendario,Sofia Fonseca,Workshops
ATTACH;FMTTYPE=image/jpeg:https://ecolife-experience.com/wp-content/uploads/2021/03/workshop-sustentabilidade.jpeg
END:VEVENT
BEGIN:VEVENT
DTSTART;TZID=UTC:20211212T100000
DTEND;TZID=UTC:20211212T120000
DTSTAMP:20260425T171302
CREATED:20210302T125428Z
LAST-MODIFIED:20210315T110306Z
UID:6779-1639303200-1639310400@ecolife-experience.com
SUMMARY:Caminhadas de Reconexão em Silêncio - O caminho do Sol e a Pedra da Lua
DESCRIPTION:As caminhadas são muito mais do que um exercício físico\, caminhar é uma terapia espiritual\, cada passo é um apelo à meditação\, um momento em que a mente e corpo se juntam e\, em equilíbrio\, promovem uma sensação de bem-estar e liberdade que nos transporta para a verdadeira dimensão de nós mesmos. Caminhar na natureza e em silêncio\, é dar espaço para observar tudo o que nos envolve sem julgamento e\, lentamente\, avançarmos na dimensão de tempo que nos é natural. Fazer parte do todo\, permite religarmos os nossos sentidos num único propósito; estar aqui e agora! E é nesse momento que nos invade uma sensação de tranquilidade\, bem-estar e alegria\, em que nos sentimos verdadeiramente religados\, numa leveza emocional que nos é tão inerente\, que podemos resgatá-la em qualquer momento. Caminhar na natureza\, permite-nos estar disponível para o nosso ser espiritual\, nesta e noutras dimensões\, e é nessa ligação que encontramos a paz e a leveza de ser. Caminhar na natureza\, descalço\, abraçar as árvores\, é considerado por muitos como uma ecoterapia\, um “banho de floresta” – “Forest bathing” – e está já provado que pode melhorar a nossa saúde. Na verdade\, as ecoterapias existem porque nos afastamos da nossa verdadeira essência\, o ser natural e espiritual que somos. Voltar a estar na natureza é um processo urgente\, para a nossa saúde física\, mental emocional e\, obviamente\, espiritual. \nPercurso | O caminho do Sol e a Pedra da Lua \nPercurso Linear 2h \nPonto de Encontro | A indicar no momento da inscrição \nRecomendações | Prever roupa confortável e calçado desportivo\, de acordo com a época do ano. Trazer água – como entidade focada na sustentabilidade\, não fornecemos garrafas de plástico e incentivamos que\, cada participante traga o seu termo (ou outro) reutilizável. \nInscrições: sofia.fonseca@ecolife-experience.com * 968694146
URL:https://ecolife-experience.com/calendario/caminhadas-de-reconexao-o-caminho-do-sol-e-a-pedra-da-lua-2/
LOCATION:Sintra\, Sintra\, Portugal
CATEGORIES:calendario,Caminhadas,Sofia Fonseca
ATTACH;FMTTYPE=image/jpeg:https://ecolife-experience.com/wp-content/uploads/2021/03/Adrenunes.jpg
END:VEVENT
BEGIN:VEVENT
DTSTART;TZID=UTC:20211220T180000
DTEND;TZID=UTC:20211220T210000
DTSTAMP:20260425T171302
CREATED:20210930T121655Z
LAST-MODIFIED:20211130T115043Z
UID:8489-1640023200-1640034000@ecolife-experience.com
SUMMARY:Constelações Familiares | com Atma Ananda Kaur (Margarida)
DESCRIPTION:Constelações Familiares \nÉ uma metodologia de terapia transpessoal\, que facilita a abertura e expansão de consciência do indivíduo para aspectos mais imediatos\, como questões profissionais\, relacionais\, cognitivas\, assim como existenciais; aquilo que quero\, o que sinto. E também\, questões espirituais. Criada pelo filósofo alemão Bert Hellinger (1925-2019) que\, ao longo da sua vida\, desenvolveu aquilo a que chamou de “pensamento sistémico”\, na medida em que envolve todos os membros de um sistema (familiar ou profissional)\, numa abordagem que enfatiza o papel das emoções e das energias que envolvem o nosso inconsciente e a forma como estas interferem nas nossas decisões\, procurando\, portanto\, aceder à “consciência sistémica” do indivíduo. \nComo funciona? \nNa constelação-familiar\, o participante propõe-se olhar para o seu próprio sistema familiar\, e pode ser utilizada em diversos contextos. Envolve diferentes actores\, nomeadamente\, o indivíduo constelado\, o facilitador constelador e o sistema envolvente do indivíduo\, papel assumido pelos participantes\, ou\, na ausência destes\, bonecos\, objectos ou imagens que representam os sistemas do indivíduo. \nNo caso de participantes\, são escolhidos representantes para essa pessoa e para os membros de sua família. O constelador acede ao campo do constelado\, onde existem memórias vividas por ele e pelos seus antepassados\, conscientes e inconscientes. Os representantes começam a sentir o que se passa no inconsciente do constelado e percebem nos próprios corpos emoções sob a forma de dores\, tonturas! O constelador visualiza as informações ocultas do sistema e começa a reorganizá-lo. Coloca os representantes em novas posições e procura um novo equilíbrio no sistema. Podem\, também\, observar-se quais os movimentos e posturas que conduzem a uma solução. O constelado\, que observa a dinâmica de fora\, tem assim\, acesso a uma visão mais clara dos emaranhamentos familiares e de como estes podem ser resolvidos. \nAlguns dos temas mais comuns que são abordados: \n\nRelacionamentos com familiares (pai\, mãe\, marido/esposa\, filhos\, avós\, tios);\nAcontecimentos familiares marcantes (adoções\, perdas\, doenças psiquiátricas\, mortes precoces\, assassinatos\, suicídio\, abortos\, entre outros);\nRelacionamento interpessoal (sexualidade\, amantes\, parceiros amorosos e sexuais\, amigos\, colegas);\nProblemas de saúde;\nConflitos profissionais e/ou com a carreira;\nPerspectiva e sentido de vida.\n\nFacilitadora: Atma Ananda Kaur nome espiritual\, é terapeuta holística com 10 anos de experiência. Estudou com vários professores nacionais e internacionais\, aprofundando o seu conhecimento abrangente e profundo acerca da mente e das emoções \nValor para constelar | 35\,00 € \nValor para assistir | 25\,00 € \n\n\nLocal | Eco Retiro de Galamares\, Sintra \nInscrições | sofia.fonseca@ecolife-experience.com // 968 694 146
URL:https://ecolife-experience.com/calendario/terapia-em-grupo-constelacoes-familiares-com-atma-ananda-kaur-margarida-20-dez/
LOCATION:Eco Retiro de Galamares\, Galamares\, 2710-249 SINTRA\, Portugal
CATEGORIES:calendario,Margarida,Workshops
ATTACH;FMTTYPE=image/jpeg:https://ecolife-experience.com/wp-content/uploads/2021/03/Constelacoes-Familiares-com-Margarida.jpg
END:VEVENT
BEGIN:VEVENT
DTSTART;TZID=UTC:20211231T190000
DTEND;TZID=UTC:20211231T235900
DTSTAMP:20260425T171302
CREATED:20211217T130624Z
LAST-MODIFIED:20211217T130943Z
UID:8897-1640977200-1640995140@ecolife-experience.com
SUMMARY:Celebração de Ano Novo - Ritual do Fogo
DESCRIPTION:O Eco Retiro convida-vos a celebrarem connosco esta entrada para o novo ano 2022. \nVamos libertar através de partilha e rituais tudo o que não nos serve e co-criar um novo ano\, cheio de sonhos e amor! \n  \n \nInscrições: sofia.fonseca@ecolife-experience.com * 968694146
URL:https://ecolife-experience.com/calendario/caminhadas-de-reconexao-o-bosque-da-peninha-2-2/
LOCATION:Sintra\, Sintra\, Portugal
CATEGORIES:calendario,Sofia Fonseca
ATTACH;FMTTYPE=image/jpeg:https://ecolife-experience.com/wp-content/uploads/2021/12/chang-duong-Sj0iMtq_Z4w-unsplash-scaled.jpg
END:VEVENT
END:VCALENDAR