BEGIN:VCALENDAR
VERSION:2.0
PRODID:-//Eco Life Experience - ECPv6.2.6.1//NONSGML v1.0//EN
CALSCALE:GREGORIAN
METHOD:PUBLISH
X-ORIGINAL-URL:https://ecolife-experience.com
X-WR-CALDESC:Events for Eco Life Experience
REFRESH-INTERVAL;VALUE=DURATION:PT1H
X-Robots-Tag:noindex
X-PUBLISHED-TTL:PT1H
BEGIN:VTIMEZONE
TZID:UTC
BEGIN:STANDARD
TZOFFSETFROM:+0000
TZOFFSETTO:+0000
TZNAME:UTC
DTSTART:20220101T000000
END:STANDARD
END:VTIMEZONE
BEGIN:VEVENT
DTSTART;TZID=UTC:20220212T130000
DTEND;TZID=UTC:20220212T180000
DTSTAMP:20260425T132225
CREATED:20220106T184528Z
LAST-MODIFIED:20220106T184528Z
UID:8962-1644670800-1644688800@ecolife-experience.com
SUMMARY:Workshop de Psicologia da Transformação | com Atma Ananda Kaur (Margarida)
DESCRIPTION:“Conhece-te a ti mesmo” foi um dos mais célebres aforismos que se encontrava no pórtico da entrada do templo na cidade de Delfos. \nFazer estes ciclos de Workshops não é simplesmente conhecer as ideias de grandes mestres que deram à alma (psyché) o direito a ser estudada cientificamente\, mas também estudar e integrar ensinamentos que nos permitem mergulhar em nós mesmos\, evoluir e transcender. \nEstes ciclos de Workshops visam ser uma prática da Psicologia com base em linhas de orientação Analítica e Transpessoal. \nCada Workshop vai abordar um tema que visa a transformação humana. Estes Workshops terão uma parte teórica e uma componente vivencial e prática. \nAo participar nestes Workshops vai acrescentar conhecimento teórico e prático proveniente  das teorias Analiticas e Transpessoal\, para um maior desenvolvimento na sua vida pessoal. \nAo longo dos Workshops vão ser abordados temas como:  \nCartografias da Consciência\, Mitologias\, Arquétipos\, Sonhos\, Potencial Humano\, Estados Modificados de Consciência\, Aplicação Terapêutica da Espiritualidade \nFacilitadora: Atma Ananda Kaur nome espiritual\, é terapeuta holística com 10 anos de experiência. Estudou com vários professores nacionais e internacionais\, aprofundando o seu conhecimento abrangente e profundo acerca da mente e das emoções \nValor  | 70\,00 € \n\n\nLocal | Eco Retiro de Galamares\, Sintra \nInscrições | sofia.fonseca@ecolife-experience.com // 968 694 146
URL:https://ecolife-experience.com/calendario/psicologiatransformacao-12-2/
LOCATION:Eco Retiro de Galamares\, Galamares\, 2710-249 SINTRA\, Portugal
CATEGORIES:calendario,Margarida,Workshops
ATTACH;FMTTYPE=image/jpeg:https://ecolife-experience.com/wp-content/uploads/2021/12/chang-duong-Sj0iMtq_Z4w-unsplash-scaled.jpg
END:VEVENT
BEGIN:VEVENT
DTSTART;TZID=UTC:20220213T100000
DTEND;TZID=UTC:20220213T130000
DTSTAMP:20260425T132225
CREATED:20210315T123730Z
LAST-MODIFIED:20211215T175419Z
UID:6986-1644746400-1644757200@ecolife-experience.com
SUMMARY:Terapia em Grupo Constelações Familiares | com Isabel Colcheira
DESCRIPTION:É uma metodologia de terapia transpessoal\, que facilita a abertura e expansão de consciência do indivíduo para aspectos mais imediatos\, como questões profissionais\, relacionais\, cognitivas\, assim como existenciais; aquilo que quero\, o que sinto. E também\, questões espirituais. Criada pelo filósofo alemão Bert Hellinger (1925-2019) que\, ao longo da sua vida\, desenvolveu aquilo a que chamou de “pensamento sistémico”\, na medida em que envolve todos os membros de um sistema (familiar ou profissional)\, numa abordagem que enfatiza o papel das emoções e das energias que envolvem o nosso inconsciente e a forma como estas interferem nas nossas decisões\, procurando\, portanto\, aceder à “consciência sistémica” do indivíduo. \nEste workshop é composto por uma vertente prática e vivencial e tem como objetivo principal\, explorar a abundância e a prosperidade. \n–  Identificar a abundância de forma alargada na nossa vida (ver a abundância da nossa colheita Trigo); \n– Crenças da família ancestral; \n– Repositivando o joio: problema ou solução? \nTempo para constelação. \nMaterial Necessário | Roupa confortável e desportiva\, bloco de folhas brancas\, lápis\, caneta. Trazer uma espiga de trigo/flor. \nSessões em grupo presenciais \nLocal: Eco Retiro de Galamares\, Sintra \nFacilitadora: Isabel Cocheira \nValor para constelar: 35\,00 € \nValor para assistir: 25\,00 € \nInscrições | sofia.fonseca@ecolife-experience.com // 968 694 146
URL:https://ecolife-experience.com/calendario/terapia-em-grupo-constelacoes-familiares-com-isabel-colcheira/
LOCATION:Eco Retiro de Galamares\, Galamares\, 2710-249 SINTRA\, Portugal
CATEGORIES:calendario,Isabel Cocheira,Workshops
ATTACH;FMTTYPE=image/jpeg:https://ecolife-experience.com/wp-content/uploads/2021/03/Contelacoes-Familiares-Isabel.jpg
END:VEVENT
BEGIN:VEVENT
DTSTART;TZID=UTC:20220220T100000
DTEND;TZID=UTC:20220220T130000
DTSTAMP:20260425T132225
CREATED:20210907T121445Z
LAST-MODIFIED:20211223T152943Z
UID:8476-1645351200-1645362000@ecolife-experience.com
SUMMARY:Oficina Tradicional de Olaria
DESCRIPTION:Nesta oficina vamos dar a conhecer a olaria e modelação do barro. A actividade proporciona a prática do trabalho na roda do oleiro e sensibilização aos vários processos envolventes assim como métodos de construção paralelos. Tendo por base a arte da produção milenar de artefactos a partir do barro\, pretende-se a abordagem aos diversos materiais e utensílios\, com técnicas variadas. \nObjectivos | Dar a conhecer os fundamentos e simbologia deste ofício ancestral e transversal à humanidade\, as qualidades do barro\, as técnicas de modelação e a sua cozedura. A formação é práctica\, com rodas de oleiro\, e serão fabricadas peças artesanais que os participantes levarão para casa. \nConteúdos | Programa \nIntrodução e apresentação \nAmassar e preparar o barro \nPráctica de Olaria: centrar o barro\, fazer tigelas\, copos\, pratos\, canecas \nAcabamentos nas peças \nObservar e compreender o ciclo de secagem \nAprender a fazer fretes\, colagens e pegamentos \nDecorações finais usando carimbos\, esgrafitado e polimento \nDestinatários | Todos os que queiram aprender e tenham interesse por técnicas rudimentares e manuais\, de forma introdutória ou queiram aprofundar conhecimentos na área da cerâmica e barro. Não é necessária experiência prévia. \nNota | As peças produzidas pelos participantes serão levadas no fim da actividades podendo\, mais tarde serem cozidas em forno a mufla\, próprio. \nValor Presencial | 40\,00 € por pessoa \nLocal: Eco Retiro de Galamares\, Sintra \nInscrições | sofia.fonseca@ecolife-experience.com // 968 694 146 \nFormadora | Ana Maló
URL:https://ecolife-experience.com/calendario/workshop-de-olaria-20-fev22-2/
LOCATION:Eco Retiro de Galamares\, Galamares\, 2710-249 SINTRA\, Portugal
CATEGORIES:calendario,Workshops
ATTACH;FMTTYPE=image/jpeg:https://ecolife-experience.com/wp-content/uploads/2021/03/workshop-olaria.jpg
END:VEVENT
END:VCALENDAR