BEGIN:VCALENDAR
VERSION:2.0
PRODID:-//Eco Life Experience - ECPv6.2.6.1//NONSGML v1.0//EN
CALSCALE:GREGORIAN
METHOD:PUBLISH
X-ORIGINAL-URL:https://ecolife-experience.com
X-WR-CALDESC:Events for Eco Life Experience
REFRESH-INTERVAL;VALUE=DURATION:PT1H
X-Robots-Tag:noindex
X-PUBLISHED-TTL:PT1H
BEGIN:VTIMEZONE
TZID:UTC
BEGIN:STANDARD
TZOFFSETFROM:+0000
TZOFFSETTO:+0000
TZNAME:UTC
DTSTART:20220101T000000
END:STANDARD
END:VTIMEZONE
BEGIN:VEVENT
DTSTART;TZID=UTC:20221203T100000
DTEND;TZID=UTC:20221203T120000
DTSTAMP:20260425T012953
CREATED:20220621T160643Z
LAST-MODIFIED:20221130T132753Z
UID:9620-1670061600-1670068800@ecolife-experience.com
SUMMARY:Yoga Fun e Playdate Criativo para Crianças e Famílias!
DESCRIPTION:Yoga Fun e Playdate Criativo para Crianças e Famílias! \nPrograma:\n \nChegada às 9h45 – pequeno reconhecimento do espaço. \n10h00 – 11h00 – Yoga e Meditação para pais e para os mais pequenos (apenas um familiar adulto acompanha a criança) \nDinâmicas que ajudam e potenciam o seu desenvolvimento natural e geral\, com respeito por si mesmo\, enquanto indivíduo singular\, e na sua relação com os outros. \n11h00-12h00 – Playdate de arte sensorial \nBebés e crianças livres para brincar\, sentir\, provar\, descobrir…criar!!! Uma explosão de cor e aromas onde a natureza se torna parte do brincar e onde todos se sentem livres para explorar! Os pincéis são as mãos\, os pés\, a barriga\, o corpo todo… ou então belas flores e plantas preparadas com todo o cuidado para pequenas mãozinhas exploradoras. \nBrincar nunca foi tão natural! \n   \n  \nNota | Bebés\, crianças (dos 6 meses aos 9 anos) e cuidadores adultos. Materiais incluídos \nLocal | Eco Retiro de Galamares\, Sintra \nInscrições | info@ecolife-experience.com // 968 694 146 \nPreço | 35\,00€ \nFacilitadora | Susana Dias –  Psicóloga Clínica\, Terapeuta Holística\, Professora de Yoga \n 
URL:https://ecolife-experience.com/calendario/playdateeyogafun_dez/
LOCATION:Eco Retiro de Galamares\, Galamares\, 2710-249 SINTRA\, Portugal
CATEGORIES:calendario,Susana Dias,Workshops,Yoga
ATTACH;FMTTYPE=image/jpeg:https://ecolife-experience.com/wp-content/uploads/2022/05/WhatsApp-Image-2022-04-30-at-13.42.23-e1652354527911.jpeg
END:VEVENT
BEGIN:VEVENT
DTSTART;TZID=UTC:20221204T090000
DTEND;TZID=UTC:20221204T173000
DTSTAMP:20260425T012953
CREATED:20221115T160840Z
LAST-MODIFIED:20221116T110126Z
UID:9969-1670144400-1670175000@ecolife-experience.com
SUMMARY:Retiro | Renascer com as Constelações Familiares
DESCRIPTION:A quem se destina o retiro? \nA todas as pessoas que desejem curar feridas e padrões de comportamento que causam sofrimento e que influenciam os vínculos amorosos\, familiares\, parentais e/ou laborais. \nBenefícios do retiro| \n– Vivenciar a transformação das partes que necessitam de cura. \n– Sentir que a transformação das crenças ligadas ao corpo\, à alma e ao espírito libertam de responsabilidades indevidas\, as quais podem ser devolvidas aos Pais e Ancestrais com Amor. \n– Contribuir para que as próximas gerações se libertem dos padrões identificados\, para que estas possam expressar as suas potencialidades ao Serviço de Algo Maior. \n– Aceitar o Amor Incondicional dos Ancestrais\, o qual se manifesta através da saúde física\, das relações amorosas\, da abundância e da espiritualidade. \n– Homenagear as partes feridas e resgatá-las de volta\, colocando-as ao serviço de Algo Maior que nós próprios\, a fim de fluir com aquilo que a Vida vai oferecendo. \n  \nPrograma do retiro| \n9 horas \n– Apresentação e história do retiro. \n– Hino à Vida através das Constelações Familiares e os 3 princípios Sistémicos: Ordem\, Pertença e Reciprocidade. \n– A memória do sistema: sintonizar-se com o Campo Mórfico. \n– Descoberta dos padrões e das lealdades invisíveis que aprisionam e libertam\, através da construção da árvore familiar. \nPausa \n– Identificar e libertar um dos cinco tipos de feridas através de atividades artísticas (pintura\, escrita\, canto\, dança ou desenho…etc.). \nAlmoço Mindfulness (incluído) \n– Exercícios de EFT. \n– Representação das crenças ligadas à dor ancestral: o papel da vítima\, do salvador e do perpetuador na construção dos destinos trágicos. \n– Libertar a dor ancestral através da Constelação Familiar. \n– Homenagear as partes que se perderam e Resgate das partes saudáveis. \nEncerramento \n  \nMaterial Necessário | \nTrazer meias para os pés\, 1 manta quentinha\, 1 recordação simbólica que evoque a alma familiar\, 1 caneta. \n  \nFacilitadora: Isabel Cocheira \n  \nInscrições | sofia.fonseca@ecolife-experience.com // 968 694 146
URL:https://ecolife-experience.com/calendario/retiro-renascer_constelacoes-familiares-com-isabel-colcheira/
LOCATION:Eco Retiro de Galamares\, Galamares\, 2710-249 SINTRA\, Portugal
CATEGORIES:calendario,Isabel Cocheira,Retiros,Workshops
ATTACH;FMTTYPE=image/jpeg:https://ecolife-experience.com/wp-content/uploads/2022/11/Design-sem-nome.jpg
END:VEVENT
BEGIN:VEVENT
DTSTART;TZID=UTC:20221211T100000
DTEND;TZID=UTC:20221211T140000
DTSTAMP:20260425T012953
CREATED:20220404T115907Z
LAST-MODIFIED:20221129T194419Z
UID:9352-1670752800-1670767200@ecolife-experience.com
SUMMARY:Constelações Familiares Terapia em Grupo  | com Isabel Cocheira
DESCRIPTION:É uma metodologia de terapia transpessoal\, que facilita a abertura e expansão de consciência do indivíduo para aspectos mais imediatos\, como questões profissionais\, relacionais\, cognitivas\, assim como existenciais; aquilo que quero\, o que sinto. E também\, questões espirituais. Criada pelo filósofo alemão Bert Hellinger (1925-2019) que\, ao longo da sua vida\, desenvolveu aquilo a que chamou de “pensamento sistémico”\, na medida em que envolve todos os membros de um sistema (familiar ou profissional)\, numa abordagem que enfatiza o papel das emoções e das energias que envolvem o nosso inconsciente e a forma como estas interferem nas nossas decisões\, procurando\, portanto\, aceder à “consciência sistémica” do indivíduo. \nMaterial Necessário | Roupa confortável e desportiva\, bloco de folhas brancas\, lápis\, caneta. \nSessões em grupo presenciais \nLocal: Eco Retiro de Galamares\, Sintra \nFacilitadora: Isabel Cocheira \nPsi\, coach\, facilitadora de Constelações Familiares e praticante de hipnose. Mulher\, mãe\, filha e trabalhadora independente. Criativa\, inovadora e a curiosidade mantêm-a jovem e atenta. Desde 2015 que integra as Constelações familiares na sua prática profissional\, como complemento\, e ajuda a todos aqueles que a procuram e que pretendem melhorar as suas vidas. \nEm termos práticos\, ajuda que cada um possa conectar-se com os seus pontos fortes\, convertendo estes em ações práticas e saudáveis. \nValor para constelar: 40\,00 € \nValor para assistir: 30\,00 € \nInscrições | sofia.fonseca@ecolife-experience.com // 968 694 146
URL:https://ecolife-experience.com/calendario/terapia-em-grupo-constelacoes-familiares-com-isabel-colcheiradez/
LOCATION:Eco Retiro de Galamares\, Galamares\, 2710-249 SINTRA\, Portugal
CATEGORIES:calendario,Isabel Cocheira,Workshops
ATTACH;FMTTYPE=image/jpeg:https://ecolife-experience.com/wp-content/uploads/2021/12/WhatsApp-Image-2022-08-29-at-14.56.40-e1661870002379.jpeg
END:VEVENT
BEGIN:VEVENT
DTSTART;TZID=UTC:20221211T150000
DTEND;TZID=UTC:20221211T180000
DTSTAMP:20260425T012953
CREATED:20220810T114738Z
LAST-MODIFIED:20221208T173224Z
UID:9782-1670770800-1670781600@ecolife-experience.com
SUMMARY:Oficina Tradicional de Olaria com Ana Maló
DESCRIPTION:Edição Peças de Natal \nOficina Tradicional de Olaria com Ana Maló \nNesta oficina vamos dar a conhecer a olaria e modelação do barro. A actividade proporciona a prática do trabalho na roda do oleiro e sensibilização aos vários processos envolventes assim como métodos de construção paralelos. Tendo por base a arte da produção milenar de artefactos a partir do barro\, pretende-se a abordagem aos diversos materiais e utensílios\, com técnicas variadas. \nObjectivos | Dar a conhecer os fundamentos e simbologia deste ofício ancestral e transversal à humanidade\, as qualidades do barro\, as técnicas de modelação e a sua cozedura. A formação é práctica\, com rodas de oleiro\, e serão fabricadas peças artesanais que os participantes levarão para casa. \nConteúdos | Programa \nIntrodução e apresentação \nAmassar e preparar o barro \nPráctica de Olaria: centrar o barro\, fazer tigelas\, copos\, pratos\, canecas \nAcabamentos nas peças \nObservar e compreender o ciclo de secagem \nAprender a fazer fretes\, colagens e pegamentos \nDecorações finais usando carimbos\, esgrafitado e polimento \nDestinatários | Todos os que queiram aprender e tenham interesse por técnicas rudimentares e manuais\, de forma introdutória ou queiram aprofundar conhecimentos na área da cerâmica e barro. Não é necessária experiência prévia. \nNota | As peças produzidas pelos participantes serão levadas no fim da actividades podendo\, mais tarde serem cozidas em forno a mufla\, próprio. \nLocal: Eco Retiro de Galamares\, Sintra \nInscrições | sofia.fonseca@ecolife-experience.com // 968 694 146 \nFormadora | Ana Maló
URL:https://ecolife-experience.com/calendario/workshop-de-olaria-natal-pecas/
LOCATION:Eco Retiro de Galamares\, Galamares\, 2710-249 SINTRA\, Portugal
CATEGORIES:calendario,Workshops
ATTACH;FMTTYPE=image/jpeg:https://ecolife-experience.com/wp-content/uploads/2021/03/workshop-olaria.jpg
END:VEVENT
BEGIN:VEVENT
DTSTART;TZID=UTC:20221218T110000
DTEND;TZID=UTC:20221218T170000
DTSTAMP:20260425T012953
CREATED:20221025T142424Z
LAST-MODIFIED:20221207T122126Z
UID:9404-1671361200-1671382800@ecolife-experience.com
SUMMARY:Psicologia Transformacional Sistémica | com Atma Ananda Kaur
DESCRIPTION:“Conhece-te a ti mesmo” foi um dos mais célebres aforismos que se encontrava no pórtico da entrada do templo na cidade de Delfos. \nFazer estes ciclos de Workshops não é simplesmente conhecer as ideias de grandes mestres que deram à alma (psyché) o direito a ser estudada cientificamente\, mas também estudar e integrar ensinamentos que nos permitem mergulhar em nós mesmos\, evoluir e transcender. \nEstes ciclos de Workshops visam ser uma prática da Psicologia com base em linhas de orientação Analítica e Transpessoal. \nCada Workshop vai abordar um tema que visa a transformação humana. Estes Workshops terão uma parte teórica e uma componente vivencial e prática. \nAo participar nestes Workshops vai acrescentar conhecimento teórico e prático proveniente  das teorias Analiticas e Transpessoal\, para um maior desenvolvimento na sua vida pessoal. \nAo longo dos Workshops vão ser abordados temas como:  \nCartografias da Consciência\, Mitologias\, Arquétipos\, Sonhos\, Potencial Humano\, Estados Modificados de Consciência\, Aplicação Terapêutica da Espiritualidade \nFacilitadora: Atma Ananda Kaur nome espiritual\, é terapeuta holística com 10 anos de experiência. Estudou com vários professores nacionais e internacionais\, aprofundando o seu conhecimento abrangente e profundo acerca da mente e das emoções \nValor  | 70\,00 € \n\n\nLocal | Eco Retiro de Galamares\, Sintra \nInscrições | sofia.fonseca@ecolife-experience.com // 968 694 146
URL:https://ecolife-experience.com/calendario/psicologia_transformacional_dez/
LOCATION:Eco Retiro de Galamares\, Galamares\, 2710-249 SINTRA\, Portugal
CATEGORIES:calendario,Margarida,Workshops
ATTACH;FMTTYPE=image/jpeg:https://ecolife-experience.com/wp-content/uploads/2021/12/chang-duong-Sj0iMtq_Z4w-unsplash-scaled.jpg
END:VEVENT
END:VCALENDAR