BEGIN:VCALENDAR
VERSION:2.0
PRODID:-//Eco Life Experience - ECPv6.2.6.1//NONSGML v1.0//EN
CALSCALE:GREGORIAN
METHOD:PUBLISH
X-ORIGINAL-URL:https://ecolife-experience.com
X-WR-CALDESC:Events for Eco Life Experience
REFRESH-INTERVAL;VALUE=DURATION:PT1H
X-Robots-Tag:noindex
X-PUBLISHED-TTL:PT1H
BEGIN:VTIMEZONE
TZID:UTC
BEGIN:STANDARD
TZOFFSETFROM:+0000
TZOFFSETTO:+0000
TZNAME:UTC
DTSTART:20230101T000000
END:STANDARD
END:VTIMEZONE
BEGIN:VEVENT
DTSTART;TZID=UTC:20230203T180000
DTEND;TZID=UTC:20230203T220000
DTSTAMP:20260424T204116
CREATED:20230116T115618Z
LAST-MODIFIED:20230118T110016Z
UID:10138-1675447200-1675461600@ecolife-experience.com
SUMMARY:Noites de Cura (Healing Nights)
DESCRIPTION:Nestas noites\, convidamos a que venha fazer uma mini leitura de aura e participar num círculo de partilha. \nTodos terão a oportunidade de praticar os conhecimentos adquiridos\, ajudando assim outros a curar o seu espírito. \nValor | 20 eur \nLocal | Eco Retiro de Galamares\, Sintra \nInscrições | sofia.fonseca@ecolife-experience.com // 968 694 146 \nFormadora | Margarida ( Atma Amanda Kaur)
URL:https://ecolife-experience.com/calendario/noites-de-cura-healing-nights-fev/
LOCATION:Eco Retiro de Galamares\, Galamares\, 2710-249 SINTRA\, Portugal
CATEGORIES:calendario,Margarida,Workshops
ATTACH;FMTTYPE=image/jpeg:https://ecolife-experience.com/wp-content/uploads/2021/03/Noite-de-Cura-scaled.jpg
END:VEVENT
BEGIN:VEVENT
DTSTART;TZID=UTC:20230204T100000
DTEND;TZID=UTC:20230204T110000
DTSTAMP:20260424T204116
CREATED:20221221T184732Z
LAST-MODIFIED:20230118T175657Z
UID:10044-1675504800-1675508400@ecolife-experience.com
SUMMARY:Yoga Fun | Crianças e Famílias
DESCRIPTION:Yoga Fun para Crianças e Famílias! \nChegada às 9h45 – pequeno reconhecimento do espaço. \n10h00 – 11h00 – Yoga e Meditação para pais e para os mais pequenos (apenas um familiar adulto acompanha a criança) \nDinâmicas que ajudam e potenciam o seu desenvolvimento natural e geral\, com respeito por si mesmo\, enquanto indivíduo singular e na sua relação com os outros. \nNota | Bebés\, crianças (dos 6 meses aos 9 anos) e cuidadores adultos. Materiais incluídos \nLocal | Eco Retiro de Galamares\, Sintra \nInscrições | info@ecolife-experience.com // 968 694 146 \nPreço | 20€ (1 adulto + 1 criança) \nFacilitadora | Susana Dias –  Psicóloga Clínica\, Terapeuta Holística\, Professora de Yoga \n 
URL:https://ecolife-experience.com/calendario/yogafun_fev/
LOCATION:Eco Retiro de Galamares\, Galamares\, 2710-249 SINTRA\, Portugal
CATEGORIES:calendario,Susana Dias,Workshops,Yoga
ATTACH;FMTTYPE=image/jpeg:https://ecolife-experience.com/wp-content/uploads/2020/11/126809707_202866067910826_1692200031271508671_n.jpg
END:VEVENT
BEGIN:VEVENT
DTSTART;TZID=UTC:20230205T100000
DTEND;TZID=UTC:20230205T170000
DTSTAMP:20260424T204116
CREATED:20221221T183127Z
LAST-MODIFIED:20230105T123825Z
UID:10037-1675591200-1675616400@ecolife-experience.com
SUMMARY:Curso de Constelações Familiares | com Atma Ananda Kaur (Margarida)
DESCRIPTION:Vão ser trabalhadas duas partes\, uma parte teórica\, onde se vai abordar a técnica de Bert Hellinger e as constelações sistémicas e por fim sessão de terapias. \nPara quem tem interesse em aprofundar o seu conhecimento nesta Terapia e Constelar dinâmicas pessoais. \nConstelações Familiares \nÉ uma metodologia de terapia transpessoal\, que facilita a abertura e expansão de consciência do indivíduo para aspectos mais imediatos\, como questões profissionais\, relacionais\, cognitivas\, assim como existenciais; aquilo que quero\, o que sinto. E também\, questões espirituais. Criada pelo filósofo alemão Bert Hellinger (1925-2019) que\, ao longo da sua vida\, desenvolveu aquilo a que chamou de “pensamento sistémico”\, na medida em que envolve todos os membros de um sistema (familiar ou profissional)\, numa abordagem que enfatiza o papel das emoções e das energias que envolvem o nosso inconsciente e a forma como estas interferem nas nossas decisões\, procurando\, portanto\, aceder à “consciência sistémica” do indivíduo. \nComo funciona? \nNa constelação-familiar\, o participante propõe-se olhar para o seu próprio sistema familiar\, e pode ser utilizada em diversos contextos. Envolve diferentes actores\, nomeadamente\, o indivíduo constelado\, o facilitador constelador e o sistema envolvente do indivíduo\, papel assumido pelos participantes\, ou\, na ausência destes\, bonecos\, objectos ou imagens que representam os sistemas do indivíduo. \nNo caso de participantes\, são escolhidos representantes para essa pessoa e para os membros de sua família. O constelador acede ao campo do constelado\, onde existem memórias vividas por ele e pelos seus antepassados\, conscientes e inconscientes. Os representantes começam a sentir o que se passa no inconsciente do constelado e percebem nos próprios corpos emoções sob a forma de dores\, tonturas! O constelador visualiza as informações ocultas do sistema e começa a reorganizá-lo. Coloca os representantes em novas posições e procura um novo equilíbrio no sistema. Podem\, também\, observar-se quais os movimentos e posturas que conduzem a uma solução. O constelado\, que observa a dinâmica de fora\, tem assim\, acesso a uma visão mais clara dos emaranhamentos familiares e de como estes podem ser resolvidos. \nAlguns dos temas mais comuns que são abordados: \n\nRelacionamentos com familiares (pai\, mãe\, marido/esposa\, filhos\, avós\, tios);\nAcontecimentos familiares marcantes (adoções\, perdas\, doenças psiquiátricas\, mortes precoces\, assassinatos\, suicídio\, abortos\, entre outros);\nRelacionamento interpessoal (sexualidade\, amantes\, parceiros amorosos e sexuais\, amigos\, colegas);\nProblemas de saúde;\nConflitos profissionais e/ou com a carreira;\nPerspectiva e sentido de vida.\n\nFacilitadora | Atma Ananda Kaur nome espiritual\, é terapeuta holística com 10 anos de experiência. Estudou com vários professores nacionais e internacionais\, aprofundando o seu conhecimento abrangente e profundo acerca da mente e das emoções \nLocal | Eco Retiro de Galamares\, Sintra \n\n\nInscrições | sofia.fonseca@ecolife-experience.com // 968 694 146
URL:https://ecolife-experience.com/calendario/terapia-em-grupo-constelacoes-familiares-com-atma-ananda-kaur_fev/
LOCATION:Eco Retiro de Galamares\, Galamares\, 2710-249 SINTRA\, Portugal
CATEGORIES:calendario,Margarida,Workshops
ATTACH;FMTTYPE=image/jpeg:https://ecolife-experience.com/wp-content/uploads/2020/06/laura-fuhrman-73OJLcahQHg-unsplash-scaled.jpg
END:VEVENT
BEGIN:VEVENT
DTSTART;TZID=UTC:20230211T100000
DTEND;TZID=UTC:20230211T130000
DTSTAMP:20260424T204116
CREATED:20230112T173136Z
LAST-MODIFIED:20230112T173732Z
UID:10126-1676109600-1676120400@ecolife-experience.com
SUMMARY:Workshop Remédios Naturais | com Patrícia Teles
DESCRIPTION:Os “remédios caseiros ou naturais” são usados desde sempre! \nOs nossos antepassados aprenderam a utilizar o que a natureza oferece\, de forma a fortalecer e incentivar o sistema imunitário. Vem aprender a utilizar a natureza e os alimentos a favor da tua saúde. De forma natural podes ajudar a fortalecer o teu sistema imunitário e apaziguar os sintomas. Existem alimentos ricos em micronutrientes\, que quando misturados e tomados na dose certa\, podem fazer diferença no teu estado de saúde e em alturas de convalescença. \nO que vamos aprender a fazer | \n\n“Comprimido” de folha de Oliveira;\nInfusão de esteva;\nInfusão de raízes\, plantas e sementes;\nMel medicamentado;\nVick;\n\nLevarás para casa todos os produtos produzidos por ti\, acompanhados com o manual onde estarão as receitas trabalhadas. \n     \nInscrições | info@ecolife-experience.com // 968 694 146 \nFormadora | Patrícia Teles \nBio | Sou a Patrícia\, uma mulher divertida\, adoro natureza\, os animais\, as crianças\, sou feliz a conversar\, a ensinar e a passear no campo. Sou uma apaixonada pelo me trabalho\, sinto-me realizada a “cozinhar” cosmética\, pomadas e remédios naturais! Sempre gostei de texturas\, cheiros\, cremes\, formulas químicas\, e por essa razão entrei no mundo da cosmética seletiva\, mas a preocupação com a saúde e a sustentabilidade\, levou-me a aventurar-me na área da cosmética natural. Iniciei-me no curso de BIocosmética no IPN (instituto português de naturologia)\, ao mesmo tempo\, fui seguindo a Fernanda Botelho em alguns passeios\, conclui o curso de Formação em plantas aromáticas e Óleos Essenciais da faculdade de farmácia na Universidade de Coimbra e por último um curso de pomadas caseiras com Carmen Garcia!  Trabalhar em sintonia com a natureza\, é utilizar os nossos 5 sentidos\, captando o poder das plantas na manutenção\, saúde e beleza da nossa pele.
URL:https://ecolife-experience.com/calendario/remedios_naturais_fev-2/
LOCATION:Eco Retiro de Galamares\, Galamares\, 2710-249 SINTRA\, Portugal
CATEGORIES:calendario,Workshops
ATTACH;FMTTYPE=image/jpeg:https://ecolife-experience.com/wp-content/uploads/2022/03/IMG_44141-rotated-e1648211984380.jpg
END:VEVENT
BEGIN:VEVENT
DTSTART;TZID=UTC:20230218T100000
DTEND;TZID=UTC:20230218T130000
DTSTAMP:20260424T204116
CREATED:20230126T162526Z
LAST-MODIFIED:20230126T162526Z
UID:10242-1676714400-1676725200@ecolife-experience.com
SUMMARY:Workshop de Detergentes Ecológicos
DESCRIPTION:Se gostarias de melhorar a tua saúde e a da tua casa\, adquirir novos hábitos na hora de limpar\, esta oficina vai ajudar a que possas fazer os teus próprios detergentes e criares uma casa mais natural. \nNeste workshop iremos fazer diversos detergentes\, com ingredientes simples e naturais que facilmente se conseguem arranjar e iremos por em pratica algo simples e rentável\, sempre com o foco na nossa saúde e na do planeta. \nVamos falar de todos os ingredientes e de como podemos acrescentar cheirinhos naturais  aos nossos detergentes \nFaremos: \n\nDetergente líquido da roupa\nDetergente da roupa em pó\nMulti usos ( superfícies e chão)\nLimpa vidros\nPastilhas Desinfectante Wc\nDetergente para máquina da loiça\n\nInclui um manual  com toda a informação e receitas. \n\nInscrições | info@ecolife-experience.com // 968 694 146 \nFormadora | Sandra de Sá \nDesde que me lembro que tenho vontade de ajudar  o outro. Sou uma eterna apaixonada por aprender sempre mais\, conhecer novas pessoas e\, desde cedo\, que tenho uma enorme conexão e respeito pela Natureza e tudo o que é natural. \nAcredito que é possível despertar em cada um de nós uma nova consciência e também adotar novos estilos de vida\, pois juntos podemos contribuir para uma planeta mais puro e sustentável\, através das nossas ações diárias\, na nossa vida e na nossa casa.
URL:https://ecolife-experience.com/calendario/workshop-detergentes_ecologicos_fev/
LOCATION:Eco Retiro de Galamares\, Galamares\, 2710-249 SINTRA\, Portugal
CATEGORIES:calendario,Workshops
ATTACH;FMTTYPE=image/jpeg:https://ecolife-experience.com/wp-content/uploads/2023/01/Detergentes-ecologicos.jpg
END:VEVENT
BEGIN:VEVENT
DTSTART;TZID=UTC:20230218T140000
DTEND;TZID=UTC:20230218T170000
DTSTAMP:20260424T204116
CREATED:20230112T165818Z
LAST-MODIFIED:20230112T165818Z
UID:10101-1676728800-1676739600@ecolife-experience.com
SUMMARY:Workshop de Sabão Artesanal
DESCRIPTION:O sabão artesanal preza por um conjunto de boas práticas\, que auxiliem não só a nossa pele mas também o meio em que vivemos. Por não poluírem o ambiente\, devido aos ingredientes naturais\, também não causam danos à pele\, nutrindo-a  e hidratando-a. \nSe defendes um planeta puro e sustentável e tens uma paixão ou até mesmo curiosidade em aprender a fazeres o teu próprio sabão natural com ingredientes simples e com propriedades terapêuticas este evento é para ti! \n  \nDurante este workshop vamos partilhar | \n\nCuriosidades do sabão;\nMalefícios do sabão convencional;\nQuímica sabão;\nTipos de processos (cold /hot/base pronta)\, com prós e contras;\nMateriais e matérias-primas;\nÓleos vegetais\, aditivos\, pigmentos naturais;\nCuidados a ter na Saboaria\n\n\nLista de fornecedores\n\nO passo-a-passo\, onde vou  fazer um sabão natural artesanal a partir de óleos vegetais\, “processo a frio / cold process”. \nDe uma forma simples\, económico eficaz e sem complicações! \nInclui manual  com toda a informação e receita. \n\nInscrições | info@ecolife-experience.com // 968 694 146 \nFormadora | Sandra de Sá \nDesde que me lembro que tenho vontade de ajudar  o outro. Sou uma eterna apaixonada por aprender sempre mais\, conhecer novas pessoas e\, desde cedo\, que tenho uma enorme conexão e respeito pela Natureza e tudo o que é natural. \nAcredito que é possível despertar em cada um de nós uma nova consciência e também adotar novos estilos de vida\, pois juntos podemos contribuir para uma planeta mais puro e sustentável\, através das nossas ações diárias\, na nossa vida e na nossa casa.
URL:https://ecolife-experience.com/calendario/workshop-sabao_artesanal/
LOCATION:Eco Retiro de Galamares\, Galamares\, 2710-249 SINTRA\, Portugal
CATEGORIES:calendario,Workshops
ATTACH;FMTTYPE=image/jpeg:https://ecolife-experience.com/wp-content/uploads/2023/01/Sabao-Natural.jpg
END:VEVENT
BEGIN:VEVENT
DTSTART;TZID=UTC:20230219T150000
DTEND;TZID=UTC:20230219T190000
DTSTAMP:20260424T204116
CREATED:20230106T173940Z
LAST-MODIFIED:20230106T173941Z
UID:10085-1676818800-1676833200@ecolife-experience.com
SUMMARY:Workshop Impressão Botânica em tecido e papel | com Annette
DESCRIPTION:A impressão botânica é uma excelente forma de aproveitar recursos naturais disponíveis e autóctones\, como folhas\, flores\, galhos\, raízes\, cascas\, madeiras\, para “imprimir” tecido ou papel. Neste workshop vamos aprender como identificar plantas\, como pré-tratar o tecido\, como obter impressões das folhas\, e as diferentes técnicas para manipular os resultados. Cada participante vai tingir e levar pra casa amostras em algodão\, suficientemente grandes para fazer máscaras\, guardanapos\, etc.\, um saco de pano\, e dois cartões-postais\, além de receberem um pequeno manual de instruções para conseguir replicar as técnicas em casa\, para explorar a natureza e usá-la para criar e dar nova vida\, por exemplo\, a roupas velhas. \nInscrições | info@ecolife-experience.com // 968 694 146 \nFormadora | Annette \n \nBio | Foi em 2018 que descobri a “impressão botânica”. Foi um acaso feliz\, estava na Tailândia\, para obter o certificado de permacultura\, e numa dessas aulas\, na tentativa de recuperar uma camisola suja de manchas\, em vez de fazer uma lavagem convencional\, o meu professor sugeriu tingi-la com folhas de “teak”. \nEsta experiência foi para mim uma revelação e mudou a minha vida\, pois desde esse dia tenho-me dedicado à investigação sobre impressão botânica assim como no fabrico de cores naturais. Nos últimos três anos\, tenho estado a experimentar diferentes técnicas de tinturaria natural e\, desde 2020\, de acordo com as características da flora autóctone da paisagem portuguesa. \nEm Junho de 2020\, em plena pandemia\, decidi aproveitar a condição de me encontrar desempregada\, para converter esta paixão num projecto profissional. E foi assim que surgiu a “Tinctorium Studios”\, um pequeno atelier que disponibiliza workshops de impressão botânica natural\, além de consultoria sobre cores naturais\, e ser o berço da marca de produtos tingidos naturalmente\, a “Wear Tinctoria”.
URL:https://ecolife-experience.com/calendario/workshop-impressao-botanica-em-tecido-e-papel-fev/
LOCATION:Eco Retiro de Galamares\, Galamares\, 2710-249 SINTRA\, Portugal
CATEGORIES:calendario,Workshops
ATTACH;FMTTYPE=image/jpeg:https://ecolife-experience.com/wp-content/uploads/2021/04/Botanica-2-e1655824867202.jpg
END:VEVENT
BEGIN:VEVENT
DTSTART;TZID=UTC:20230223T190000
DTEND;TZID=UTC:20230223T200000
DTSTAMP:20260424T204116
CREATED:20230210T190944Z
LAST-MODIFIED:20230221T094425Z
UID:10311-1677178800-1677182400@ecolife-experience.com
SUMMARY:Noites de Resgate do Amor Próprio | Círculos de Partilha
DESCRIPTION:Estes momentos são um lugar seguro de conexão contigo\, de forma a caminhares num processo de maior auto aceitação e amor próprio.\n\nCada sessão será diferente. Poderás fazer exercícios práticos\, escrita terapêutica\, meditação ou partilhas escutadas com o coração. \nA Carolina é Confidence Coach e irá facilitar estes momentos\, com empatia\, emoção e vulnerabilidade. Desafia-te e vem conhecer!\n\nInscrições | info@ecolife-experience.com // 968 694 146 \n  \nValor | \n15\,00 € – Maior Disponibilidade \n10\,00€ – Média Disponibilidade \n5\,00€  – Menor Disponibilidade \n 
URL:https://ecolife-experience.com/calendario/circulo-de-partilha-fev/
LOCATION:Eco Retiro de Galamares\, Galamares\, 2710-249 SINTRA\, Portugal
CATEGORIES:calendario,Lista,Workshops
ATTACH;FMTTYPE=image/jpeg:https://ecolife-experience.com/wp-content/uploads/2021/12/mike-erskine-S_VbdMTsdiA-unsplash-scaled.jpg
END:VEVENT
BEGIN:VEVENT
DTSTART;TZID=UTC:20230226T100000
DTEND;TZID=UTC:20230226T120000
DTSTAMP:20260424T204116
CREATED:20230106T175056Z
LAST-MODIFIED:20230106T175056Z
UID:10088-1677405600-1677412800@ecolife-experience.com
SUMMARY:Caminhadas de Reconexão em Silêncio | O caminho do Sol e a Pedra da Lua
DESCRIPTION:As caminhadas são muito mais do que um exercício físico\, caminhar é uma terapia espiritual\, cada passo é um apelo à meditação\, um momento em que a mente e corpo se juntam e\, em equilíbrio\, promovem uma sensação de bem-estar e liberdade que nos transporta para a verdadeira dimensão de nós mesmos. Caminhar na natureza e em silêncio\, é dar espaço para observar tudo o que nos envolve sem julgamento e\, lentamente\, avançarmos na dimensão de tempo que nos é natural. Fazer parte do todo\, permite religarmos os nossos sentidos num único propósito; estar aqui e agora! E é nesse momento que nos invade uma sensação de tranquilidade\, bem-estar e alegria\, em que nos sentimos verdadeiramente religados\, numa leveza emocional que nos é tão inerente\, que podemos resgatá-la em qualquer momento. Caminhar na natureza\, permite-nos estar disponível para o nosso ser espiritual\, nesta e noutras dimensões\, e é nessa ligação que encontramos a paz e a leveza de ser. Caminhar na natureza\, descalço\, abraçar as árvores\, é considerado por muitos como uma ecoterapia\, um “banho de floresta” – “Forest bathing” – e está já provado que pode melhorar a nossa saúde. Na verdade\, as ecoterapias existem porque nos afastamos da nossa verdadeira essência\, o ser natural e espiritual que somos. Voltar a estar na natureza é um processo urgente\, para a nossa saúde física\, mental emocional e\, obviamente\, espiritual. \nPonto de Encontro | A indicar no momento da inscrição \nRecomendações | Prever roupa confortável e calçado desportivo\, de acordo com a época do ano. Trazer água – como entidade focada na sustentabilidade\, não fornecemos garrafas de plástico e incentivamos que\, cada participante traga o seu termo (ou outro) reutilizável. \nInscrições: sofia.fonseca@ecolife-experience.com // 968694146
URL:https://ecolife-experience.com/calendario/caminhadas-de-reconexao-o-caminho-do-sol-e-a-pedra-da-lua_fev/
LOCATION:Sintra\, Sintra\, Portugal
CATEGORIES:calendario,Caminhadas,Sofia Fonseca
ATTACH;FMTTYPE=image/jpeg:https://ecolife-experience.com/wp-content/uploads/2021/03/Adrenunes.jpg
END:VEVENT
BEGIN:VEVENT
DTSTART;TZID=UTC:20230226T100000
DTEND;TZID=UTC:20230226T130000
DTSTAMP:20260424T204116
CREATED:20230106T182221Z
LAST-MODIFIED:20230123T103750Z
UID:10091-1677405600-1677416400@ecolife-experience.com
SUMMARY:Oficina Tradicional de Olaria | com Ana Maló
DESCRIPTION:Nesta oficina vamos dar a conhecer a olaria e modelação do barro. A actividade proporciona a prática do trabalho na roda do oleiro e sensibilização aos vários processos envolventes assim como métodos de construção paralelos. Tendo por base a arte da produção milenar de artefactos a partir do barro\, pretende-se a abordagem aos diversos materiais e utensílios\, com técnicas variadas. \nObjectivos | Dar a conhecer os fundamentos e simbologia deste ofício ancestral e transversal à humanidade\, as qualidades do barro\, as técnicas de modelação e a sua cozedura. A formação é práctica\, com rodas de oleiro\, e serão fabricadas peças artesanais que os participantes levarão para casa. \nConteúdos | Programa \nIntrodução e apresentação \nAmassar e preparar o barro \nPráctica de Olaria: centrar o barro\, fazer tigelas\, copos\, pratos\, canecas \nAcabamentos nas peças \nObservar e compreender o ciclo de secagem \nAprender a fazer fretes\, colagens e pegamentos \nDecorações finais usando carimbos\, esgrafitado e polimento \nDestinatários | Todos os que queiram aprender e tenham interesse por técnicas rudimentares e manuais\, de forma introdutória ou queiram aprofundar conhecimentos na área da cerâmica e barro. Não é necessária experiência prévia. \nNota | As peças produzidas pelos participantes serão levadas no fim da actividades podendo\, mais tarde serem cozidas em forno a mufla\, próprio. \nLocal | Eco Retiro de Galamares\, Sintra \nInscrições | sofia.fonseca@ecolife-experience.com // 968 694 146 \nFormadora | Ana Maló
URL:https://ecolife-experience.com/calendario/workshop_olaria_fev/
LOCATION:Eco Retiro de Galamares\, Galamares\, 2710-249 SINTRA\, Portugal
CATEGORIES:calendario,Workshops
ATTACH;FMTTYPE=image/jpeg:https://ecolife-experience.com/wp-content/uploads/2019/05/à-roda-do-Barro-4-.jpg
END:VEVENT
BEGIN:VEVENT
DTSTART;TZID=UTC:20230226T150000
DTEND;TZID=UTC:20230226T180000
DTSTAMP:20260424T204116
CREATED:20221219T175804Z
LAST-MODIFIED:20221219T175804Z
UID:10032-1677423600-1677434400@ecolife-experience.com
SUMMARY:Oficina de Pão Artesanal com Massa Mãe | com Pedro Pereira
DESCRIPTION:Ao longo da história\, o pão tem sido um alimento importante em grande parte do mundo\, e é um dos mais antigos alimentos confeccionados\, tendo sido de grande importância desde o início da agricultura\, pois alimentou milhões\, e continua a ser assim\, quando faltam alternativas. O pão é muito simples de fazer\, com as medidas certas de farinha água morna\, levedura\, massa velha ou massa mãe\, sal\, uma boa amassadela\, paciência e a temperatura certa\, temos um delicioso pão que pode ser feito em forno de lenha ou no forno caseiro. \nObjectivos | Nesta oficina\, os participantes vão aprender o processo de fazer pão artesanal em forno de lenha ou forno caseiro; as possíveis farinhas e fermentos e em Massa Mãe. As farinhas utilizadas são artesanais resultantes de moinhos ainda vivos de Portugal e de origem biológica\, características que conferem um resultado único ao pão. \n  \nNota | O pão que fizerem levam para casa. Actividade inclusiva a crianças. \nValor Presencial | 35\,00€/por pessoa / grupo mínimo de 6 pessoas \nLocal | Eco Retiro de Galamares\, Sintra \nInscrições | sofia.fonseca@ecolife-experience.com // 968 694 146 \nFormador | Pedro Pereira \nPadeiro e fundador da Peter Pão – Padaria Natural.\nTrabalha com fermentação natural há mais de 15 anos\, tendo feito pão em quintas de agricultura biológica\, como a Quinta dos 7 nomes\, onde esteve 3 anos\, antes de se aventurar no seu próprio negócio.\nNeste percurso sempre fez uso do forno de lenha\, tendo aperfeiçoado esta técnica. \n 
URL:https://ecolife-experience.com/calendario/workshop-de-pao-massa-mae_fev/
LOCATION:Eco Retiro de Galamares\, Galamares\, 2710-249 SINTRA\, Portugal
CATEGORIES:calendario,Sofia Fonseca,Workshops
ATTACH;FMTTYPE=image/jpeg:https://ecolife-experience.com/wp-content/uploads/2021/11/IMG_20211205_144625.jpg
END:VEVENT
BEGIN:VEVENT
DTSTART;TZID=UTC:20230227T180000
DTEND;TZID=UTC:20230227T210000
DTSTAMP:20260424T204116
CREATED:20210930T121351Z
LAST-MODIFIED:20230224T201825Z
UID:8486-1677520800-1677531600@ecolife-experience.com
SUMMARY:Curso de Leitura de Aura (Fev a Jul) | Atma Ananda Kaur
DESCRIPTION:O curso realiza-se em 5 módulos\, divididos ao longo de 5 meses\, às 2.ª e 6.ª feiras das 18h00 às 21h00 (ver datas abaixo). \nA Aura humana é o nome que se dá ao campo energético que envolve o nosso corpo físico\, que reúne todas as nossas informações físicas e metafísicas\, guarda memórias de experiências passadas\, e também sobre o que está a ser criado no presente. \nA Leitura de Aura é uma terapia na qual se acede à energia do outro\, é uma ferramenta de comunicação de espírito para espírito e coloca à superfície aquilo que é de maior importância no momento presente. É possível reconhecer as dinâmicas da nossa vida no momento presente e identificar programas e padrões. \nTodos temos a capacidade inata de “ler” energia e este curso é por isso\, para todos os que pretendem desenvolver esta aptidão\, elevar a sua vibração e reconectar-se ao seu propósito de vida e com o seu espírito Com o Curso de Leitura da Aura vais aprender como ler a energia e como cuidar da tua própria aura\, mantendo uma alta vibração. O Curso é também uma grande viagem de autoconhecimento e descoberta pessoal. \n​ O que vais aprender: \n\nMeditar: Este curso tem como base uma técnica de Meditação das Rosas que permite à pessoa o conhecimento do seu estado energético e transformá-lo\, ficando ao comando da sua energia.\nReconhecer a tua própria energia e a separá-la da energia dos outros\, ficando livre de influências e de interferências de outras energias.\nDesenvolver o estado de Neutralidade\, colocando-te ao serviço do outro.\nAjudar quem está a ler a Aura\, a entender os seus sintomas físicos\, bem como a tradução de eventos que ocorrem a nível energético.\nA limpar e a cuidar da tua energia (Aura) e a mantê-la plena em todos os momentos\, independentemente das circunstâncias.\nAprender a limpar e a manter saudável a energia dos espaços.\nFicar com a consciência das programações sociais e familiares e dos padrões de comportamento limitantes\nDesenvolver a Intuição e a ligação às fontes de energia essenciais.\n\nDatas |  \n1.º Modulo – 27 de Fev; 3; 10 e 13 de Março – “Meditação das Rosas” \n2.º Modulo – 27 e 31 de Março; 10 e 14 de Abril – Curso de Leitura de Aura \n3.º Modulo –  24 e 28 de Abril\, 8 e 12 de Maio – Curso de Leitura de Aura \n4.º Modulo – 22 e 26 de Maio\, 5 e 9 de Junho – Curso de Leitura de Aura \n5.º Modulo – 19 e 23 de Junho\, 3 e 7 de Julho – Curso de Leitura de Aura \n \n1.º Modulo | “Meditação das Rosas” \nA Meditação das Rosas é uma técnica de meditação ativa de visualizações simples e uma poderosa ferramenta para a limpeza da energia individual e proteção da aura. Permite-nos manter o nosso equilíbrio e ir para o nosso centro pessoal. \nÉ também uma ferramenta de consciencialização pessoal\, limpeza energética e permite-nos uma vivência com a nossa própria energia. Com esta ferramenta aumentamos a nossa capacidade de nos aproximarmos cada vez mais daquilo que queremos para nós e descobrir quem verdadeiramente somos. \nVamos aprender um conjunto de práticas para utilizar no dia a dia. Um processo de autoconhecimento por via da leitura do nosso campo energético e vibracional\, abrindo portas a uma nova perspetiva de nós próprios e do nosso percurso\, o que permite uma enorme transformação e desenvolvimento interiores. \nÉ um processo evolutivo que nos conduz a uma tomada de consciência do nosso campo vibracional (aura) e dos padrões ou crenças que devemos deixar cair ou transformar. \nA Meditação das Rosas insere-se no Curso de Leitura de Aura e é a base de quem faz leituras de aura. \nConteúdos Programáticos: \n\nTomada de consciência da aura individual;\nTécnicas de enraizamento;\nObservação e proteção da energia individual;\nTécnicas para assumir a autoridade energética da aura individual\, a sua limpeza e proteção;\nConexão com o espaço sagrado individual e a consciência do estado da energia individual;\nLimpeza de bloqueios;\nLimpeza dos Chakras;\nTécnicas que elevam a vibração energética.\n\nValor | 165€ x 5  (pagos no início de cada Módulo) \nLocal | Eco Retiro de Galamares \nInscrições | info@ecolife-experience.com // 968 694 146 \nFormadora | Margarida (Atma Ananda Kaur) | Terapeuta holística \n  \n 
URL:https://ecolife-experience.com/calendario/curso_leitura_de_aura_fev23/
LOCATION:Eco Retiro de Galamares\, Galamares\, 2710-249 SINTRA\, Portugal
CATEGORIES:calendario,Lista,Margarida,Workshops
ATTACH;FMTTYPE=image/jpeg:https://ecolife-experience.com/wp-content/uploads/2022/03/LeituraAura-001.jpg
END:VEVENT
END:VCALENDAR