BEGIN:VCALENDAR
VERSION:2.0
PRODID:-//Eco Life Experience - ECPv6.2.6.1//NONSGML v1.0//EN
CALSCALE:GREGORIAN
METHOD:PUBLISH
X-WR-CALNAME:Eco Life Experience
X-ORIGINAL-URL:https://ecolife-experience.com
X-WR-CALDESC:Events for Eco Life Experience
REFRESH-INTERVAL;VALUE=DURATION:PT1H
X-Robots-Tag:noindex
X-PUBLISHED-TTL:PT1H
BEGIN:VTIMEZONE
TZID:Europe/Lisbon
BEGIN:DAYLIGHT
TZOFFSETFROM:+0000
TZOFFSETTO:+0100
TZNAME:WEST
DTSTART:20260329T010000
END:DAYLIGHT
BEGIN:STANDARD
TZOFFSETFROM:+0100
TZOFFSETTO:+0000
TZNAME:WET
DTSTART:20261025T010000
END:STANDARD
TZID:UTC
BEGIN:STANDARD
TZOFFSETFROM:+0000
TZOFFSETTO:+0000
TZNAME:UTC
DTSTART:20260101T000000
END:STANDARD
END:VTIMEZONE
BEGIN:VEVENT
DTSTART;TZID=Europe/Lisbon:20260718T150000
DTEND;TZID=Europe/Lisbon:20260718T180000
DTSTAMP:20260421T120720
CREATED:20260410T145246Z
LAST-MODIFIED:20260410T145246Z
UID:12989-1784386800-1784397600@ecolife-experience.com
SUMMARY:WORKSHOP DE TINGIMENTOS NATURAIS
DESCRIPTION:Sê bem-vindo a uma manhã dedicada à exploração do tingimento natural uma jornada que une criatividade\, sustentabilidade e conhecimento técnico. \nNeste workshop aprenderás a tingir tecido com pigmentos provenientes de desperdício alimentar\, plantas e raízes\, especiarias e outras substâncias naturais. A preparação das fibras é um processo crucial para o sucesso do tingimento com recurso a matéria orgânica\, e a mordentagem dos tecidos será igualmente contemplada neste workshop. Começaremos por identificar as diferentes fibras têxteis que podem ser tingidas\, distinguiremos os processos de mordentagem para cada tipo de fibra\, e exploraremos o universo de pigmentos que temos muitas vezes à mão de semear nas nossas casas. No final desta atividade\, o participante deterá conhecimento e ferramentas para fazer os seus próprios tingimentos. A tinturaria artesanal é uma arte sustentável\, que nos permite alcançar diversos tons e cores vibrantes\, sem qualquer tipo de poluição associada. \nObjetivos da atividade \n\nIdentificação e distinção de fibras celulósicas e proteicas\, pesagem e criação de kits/amostras\nPré-Mordentagem e Mordentagem\nPigmentos Naturais e Especificidades\nRegras de Cozedura\nSecagem e etiquetagem das amostras\n\n  \nGrupo Máximo 12p. e Mínimo 6p. \nNota | Maiores de 14 anos. Materiais incluídos \nLocal | Eco Retiro de Galamares\, Sintra \n Inscrições | info@ecolife-experience.com // 968 694 146 \nValor | 45 € (1 adulto) \nFormadora | Sara Florindo
URL:https://ecolife-experience.com/calendario/workshop-de-tingimentos-naturais/
CATEGORIES:calendario,Workshops,Workshops
ATTACH;FMTTYPE=image/jpeg:https://ecolife-experience.com/wp-content/uploads/2026/04/WhatsApp-Image-2026-04-10-at-11.47.27.jpeg
END:VEVENT
BEGIN:VEVENT
DTSTART;TZID=UTC:20260726T100000
DTEND;TZID=UTC:20260726T120000
DTSTAMP:20260421T120720
CREATED:20210302T125139Z
LAST-MODIFIED:20250922T101924Z
UID:6773-1785060000-1785067200@ecolife-experience.com
SUMMARY:Caminhadas de Reconexão em Silêncio - Pisão-Sintra
DESCRIPTION:As caminhadas são muito mais do que um exercício físico\, caminhar é uma terapia espiritual\, cada passo é um apelo à meditação\, um momento em que a mente e corpo se juntam e\, em equilíbrio\, promovem uma sensação de bem-estar e liberdade que nos transporta para a verdadeira dimensão de nós mesmos. \nCaminhar na natureza e em silêncio\, é dar espaço para observar tudo o que nos envolve sem julgamento e\, lentamente\, avançarmos na dimensão de tempo que nos é natural. Fazer parte do todo\, permite religarmos os nossos sentidos num único propósito; estar aqui e agora! E é nesse momento que nos invade uma sensação de tranquilidade\, bem-estar e alegria\, em que nos sentimos verdadeiramente religados\, numa leveza emocional que nos é tão inerente\, que podemos resgatá-la em qualquer momento. Caminhar na natureza\, permite-nos estar disponível para o nosso ser espiritual\, nesta e noutras dimensões\, e é nessa ligação que encontramos a paz e a leveza de ser. Caminhar na natureza\, descalço\, abraçar as árvores\, é considerado por muitos como uma ecoterapia\, um “banho de floresta” – “Forest bathing” – e está já provado que pode melhorar a nossa saúde. Na verdade\, as ecoterapias existem porque nos afastamos da nossa verdadeira essência\, o ser natural e espiritual que somos. Voltar a estar na natureza é um processo urgente\, para a nossa saúde física\, mental emocional e\, obviamente\, espiritual. \nPercurso | Pisão – Sintra \nPercurso Linear 2h \nPonto de Encontro | A indicar no momento da inscrição \nValor: 10€ \nRecomendações | Prever roupa confortável e calçado desportivo\, conforme a época do ano. Trazer água – como entidade focada na sustentabilidade\, não fornecemos garrafas de plástico e incentivamos que\, cada participante traga o seu termo (ou outro) reutilizável. \nInscrições: sofia.fonseca@ecolife-experience.com * 968694146
URL:https://ecolife-experience.com/calendario/caminhadas-de-reconexao-pisao-sintra_julho/
LOCATION:Sintra\, Sintra\, Portugal
CATEGORIES:calendario,Caminhadas,Sofia Fonseca
ATTACH;FMTTYPE=image/jpeg:https://ecolife-experience.com/wp-content/uploads/2021/03/pisao.jpg
END:VEVENT
END:VCALENDAR