BEGIN:VCALENDAR
VERSION:2.0
PRODID:-//Eco Life Experience - ECPv6.2.6.1//NONSGML v1.0//EN
CALSCALE:GREGORIAN
METHOD:PUBLISH
X-ORIGINAL-URL:https://ecolife-experience.com
X-WR-CALDESC:Events for Eco Life Experience
REFRESH-INTERVAL;VALUE=DURATION:PT1H
X-Robots-Tag:noindex
X-PUBLISHED-TTL:PT1H
BEGIN:VTIMEZONE
TZID:UTC
BEGIN:STANDARD
TZOFFSETFROM:+0000
TZOFFSETTO:+0000
TZNAME:UTC
DTSTART:20220101T000000
END:STANDARD
END:VTIMEZONE
BEGIN:VEVENT
DTSTART;TZID=UTC:20221127T100000
DTEND;TZID=UTC:20221127T130000
DTSTAMP:20260425T025359
CREATED:20220713T150405Z
LAST-MODIFIED:20220713T150405Z
UID:9733-1669543200-1669554000@ecolife-experience.com
SUMMARY:Workshop de Hortas Biológicas | com João Santos
DESCRIPTION:A agricultura biológica respeita a terra\, as pessoas\, a natureza e o seus contributos e ciclos. Na agricultura biológica só são utilizadas práticas que não afectem o ambiente\, todos os fertilizantes utilizados são naturais\, provenientes da compostagem dos resíduos orgânicos\, com culturas adaptadas às condições de cada a região\, onde a saúde do solo é fundamental tanto para as plantas\, como os seres vivos que com ela coexistem\, preciosos auxiliares no combate de pragas e doenças. A agricultura biológica enquadra-se no verdadeiro desenvolvimento sustentável\, pois respeita profundamente a qualidade de vida das gerações presentes e futuras\, e sobretudo esta casa chamada Terra. \n2ª Sessão (fertilização e fitossanidade) 2h. \n1ª hora  \n– Fertilização \n– Compostagem; \n– Recursos orgânicos e minerais; \n– Como fazer adubos líquidos; \n– Como fertilizar as culturas em agricultura biológica; \n2ª hora  \n– Biodiversidade na horta; \n– Técnicas ecológicas de controlo de pragas e doenças; \n– Medidas preventivas e diretas; \n– Como fazer preparados fitossanitários ecológicos. \n+ 1 h para sessão de perguntas e respostas. \n\n\nValor Presencial | 40\,00 € / pessoa / oficina presencial – para um mínimo de 4 pessoas. \n\n\n\n\nLocal: Eco Retiro de Galamares\, Sintra e online \nInscrições | sofia.fonseca@ecolife-experience.com // 968 694 146 \nFormadora:  João Santos – Técnico agrícola\, com estágio em AB em França (Nature et Progrès\, Provence). – Horticultor biológico. – Co-fundador da Agrobio. – Ligado à Agricultura Biológica desde 1982\, foi agricultor bio\, empresário na área de distribuição ao domicílio de produtos biológicos e responsável pelo setor hortofrutícola da Biocoop (com funções de negociação\, aprovisionamento e apoio aos agricultores). – Formador em Horticultura Biológica desde 2010.
URL:https://ecolife-experience.com/calendario/workshop-de-hortas-biologicas-3/
LOCATION:Eco Retiro de Galamares\, Galamares\, 2710-249 SINTRA\, Portugal
CATEGORIES:calendario,Workshops
ATTACH;FMTTYPE=image/jpeg:https://ecolife-experience.com/wp-content/uploads/2021/03/hortas-1.jpg
END:VEVENT
BEGIN:VEVENT
DTSTART;TZID=UTC:20221127T150000
DTEND;TZID=UTC:20221127T190000
DTSTAMP:20260425T025359
CREATED:20210630T111815Z
LAST-MODIFIED:20220913T124100Z
UID:8369-1669561200-1669575600@ecolife-experience.com
SUMMARY:Workshop Impressão Botânica em tecido e papel | com Annette
DESCRIPTION:A impressão botânica é uma excelente forma de aproveitar recursos naturais disponíveis e autóctones\, como folhas\, flores\, galhos\, raízes\, cascas\, madeiras\, para “imprimir” tecido ou papel. Neste workshop vamos aprender como identificar plantas\, como pré-tratar o tecido\, como obter impressões das folhas\, e as diferentes técnicas para manipular os resultados. Cada participante vai tingir e levar pra casa amostras em algodão\, suficientemente grandes para fazer máscaras\, guardanapos\, etc.\, um saco de pano\, e dois cartões-postais\, além de receberem um pequeno manual de instruções para conseguir replicar as técnicas em casa\, para explorar a natureza e usá-la para criar e dar nova vida\, por exemplo\, a roupas velhas. \nInscrições | info@ecolife-experience.com // 968 694 146 \nFormadora | Annette \n \nBio | Foi em 2018 que descobri a “impressão botânica”. Foi um acaso feliz\, estava na Tailândia\, para obter o certificado de permacultura\, e numa dessas aulas\, na tentativa de recuperar uma camisola suja de manchas\, em vez de fazer uma lavagem convencional\, o meu professor sugeriu tingi-la com folhas de “teak”. \nEsta experiência foi para mim uma revelação e mudou a minha vida\, pois desde esse dia tenho-me dedicado à investigação sobre impressão botânica assim como no fabrico de cores naturais. Nos últimos três anos\, tenho estado a experimentar diferentes técnicas de tinturaria natural e\, desde 2020\, de acordo com as características da flora autóctone da paisagem portuguesa. \nEm Junho de 2020\, em plena pandemia\, decidi aproveitar a condição de me encontrar desempregada\, para converter esta paixão num projecto profissional. E foi assim que surgiu a “Tinctorium Studios”\, um pequeno atelier que disponibiliza workshops de impressão botânica natural\, além de consultoria sobre cores naturais\, e ser o berço da marca de produtos tingidos naturalmente\, a “Wear Tinctoria”.
URL:https://ecolife-experience.com/calendario/workshop-impressao-botanica-em-tecido-e-papel/
LOCATION:Eco Retiro de Galamares\, Galamares\, 2710-249 SINTRA\, Portugal
CATEGORIES:calendario,Workshops
ATTACH;FMTTYPE=image/jpeg:https://ecolife-experience.com/wp-content/uploads/2021/04/Botanica-2-e1655824867202.jpg
END:VEVENT
END:VCALENDAR