BEGIN:VCALENDAR
VERSION:2.0
PRODID:-//Eco Life Experience - ECPv6.2.6.1//NONSGML v1.0//EN
CALSCALE:GREGORIAN
METHOD:PUBLISH
X-WR-CALNAME:Eco Life Experience
X-ORIGINAL-URL:https://ecolife-experience.com
X-WR-CALDESC:Events for Eco Life Experience
REFRESH-INTERVAL;VALUE=DURATION:PT1H
X-Robots-Tag:noindex
X-PUBLISHED-TTL:PT1H
BEGIN:VTIMEZONE
TZID:UTC
BEGIN:STANDARD
TZOFFSETFROM:+0000
TZOFFSETTO:+0000
TZNAME:UTC
DTSTART:20230101T000000
END:STANDARD
END:VTIMEZONE
BEGIN:VEVENT
DTSTART;TZID=UTC:20230304T090000
DTEND;TZID=UTC:20230305T180000
DTSTAMP:20260425T010453
CREATED:20230130T121151Z
LAST-MODIFIED:20230222T182529Z
UID:10246-1677920400-1678039200@ecolife-experience.com
SUMMARY:Curso Intensivo de Carpintaria | mestre Vítor Catarino
DESCRIPTION:ATENÇÃO | 200€ = Valor para a totalidade do curso de 4 dias\, a decorrer em 2 fins-de-semana (4 e 5 MAR + 11 e 12 MAR)\nAprende a trabalhar com madeira. Constrói um tabuleiro\, um baú e uma cadeira. \n\nUm curso prático composto por 6 módulos dedicados à construção em madeira – madeiras / ferramentas / encaixes. Vamos conhecer os diferentes tipos de madeira\, as ferramentas\, técnicas\, e vamos construir uma peça em cada um dos módulos. \n  \nDATAS | 4\, 5\, 11 e 12 DE MARÇO \n  \n1 – FERRAMENTAS Básicas individuais\, que devem fazer os possíveis por trazer logo no primeiro dia |\n1.1-           1 lápis\n1.2-           1 Fita métrica\n1.3-           1 Esquadro\n1.4-           1 Martelo de Carpinteiro\n1.5-           1 Formão recto com 1cm de largura\n1.6-           1 Serrote de costas \n  \n2 – HORÁRIO | O curso tem uma componente prática muito exigente em termos de tempo\, pelo que devem estar preparados para fazer um horário intensivo das 9 horas às 18 horas de cada um dos 4 dias do curso. \n  \n3 – ALIMENTAÇÂO | Devem vir preparados com farnel próprio\, Sandwichs\, ou Marmita. Há espaço próprio para refeitório. Fruta\, Sumos\, Snacks\, também há na loja da Quinta\, para quem quiser comprar. \n  \n4 – ROUPA DE TRABALHO | Devem ter em atenção trazer roupa que se vai eventualmente poder sujar ou rasgar. Vai haver Pó e Serradura para todos os gostos. Fato-Macaco e ou Avental\, recomenda-se.\, assim como roupa justa\, sem mangas penduradas. Cabelos Curtos e ou apanhados\, Gorro\, lenço de cabeça ou Chapéu. \n  \nPara que a pré-inscrição seja formalizada e a vaga reservada é necessária a transferência de 50€ (deduzidos do total)\, seguido do nome do inscrito e envio do comprovativo. O valor do sinal pode ser devolvido se o aviso da desistência for feito com pelo menos 15 dias de antecedência. Caso contrário o valor do sinal ficará para cobrir o valor investido em material. \n  \nInscrições | info@ecolife-experience.com // 968 694 146 \n\nNOTA | O valor do curso inclui os materiais e peças que vão ser produzidas \n\n  \n \nPower by Fuga Perfeita – Animação e Turismo Cultural\, Lda.\nRegistada no RNAAT- Registo Nacional de Agentes de Animação Turística\, com o n.º 48/2004\nCalçada de São Pedro\, 14\, 2710-507 Sintra | Portugal | + 351 219 240 603\nTelm.: + 351 968 694 146 |  www.ecolife-experience.com | sofia.fonseca@ecolife-experience.com\nAntes de imprimir este e-mail pense bem se tem mesmo que o fazer. Há cada vez menos árvores.\nBefore printing this email\, please think if you really need to. Trees are each time less and less.\nTEXTO ESCRITO SEGUNDO ANTIGA ORTOGRAFIA \n\n\n\n\n\n[/av_contact] \n 
URL:https://ecolife-experience.com/calendario/curso_carpintaria_mar/
LOCATION:quinta dos 7 nomes\, Avenida do Atlântico 107 B\, Banzão\, 2705 - 287 Colares\, Portugal
CATEGORIES:calendario,Lista,Workshops
ATTACH;FMTTYPE=image/jpeg:https://ecolife-experience.com/wp-content/uploads/2020/01/IMG_20211016_131117-scaled.jpg
END:VEVENT
BEGIN:VEVENT
DTSTART;TZID=UTC:20230305T100000
DTEND;TZID=UTC:20230305T170000
DTSTAMP:20260425T010453
CREATED:20230105T124619Z
LAST-MODIFIED:20230105T125109Z
UID:10068-1678010400-1678035600@ecolife-experience.com
SUMMARY:Psicologia Transformacional Sistémica | com Atma Ananda Kaur
DESCRIPTION:“Conhece-te a ti mesmo” foi um dos mais célebres aforismos que se encontrava no pórtico da entrada do templo na cidade de Delfos. \nFazer estes ciclos de Workshops não é simplesmente conhecer as ideias de grandes mestres que deram à alma (psyché) o direito a ser estudada cientificamente\, mas também estudar e integrar ensinamentos que nos permitem mergulhar em nós mesmos\, evoluir e transcender. \nEstes ciclos de Workshops visam ser uma prática da Psicologia com base em linhas de orientação Analítica e Transpessoal. \nCada Workshop vai abordar um tema que visa a transformação humana. Estes Workshops terão uma parte teórica e uma componente vivencial e prática. \nAo participar nestes Workshops vai acrescentar conhecimento teórico e prático proveniente  das teorias Analiticas e Transpessoal\, para um maior desenvolvimento na sua vida pessoal. \nAo longo dos Workshops vão ser abordados temas como: \nCartografias da Consciência\, Mitologias\, Arquétipos\, Sonhos\, Potencial Humano\, Estados Modificados de Consciência\, Aplicação Terapêutica da Espiritualidade \nFacilitadora: Atma Ananda Kaur nome espiritual\, é terapeuta holística com 10 anos de experiência. Estudou com vários professores nacionais e internacionais\, aprofundando o seu conhecimento abrangente e profundo acerca da mente e das emoções \nLocal | Eco Retiro de Galamares\, Sintra \n\n\nInscrições | sofia.fonseca@ecolife-experience.com // 968 694 146
URL:https://ecolife-experience.com/calendario/psicologia_transformacional_mar/
LOCATION:Eco Retiro de Galamares\, Galamares\, 2710-249 SINTRA\, Portugal
CATEGORIES:calendario,Margarida,Workshops
ATTACH;FMTTYPE=image/jpeg:https://ecolife-experience.com/wp-content/uploads/2021/12/chang-duong-Sj0iMtq_Z4w-unsplash-scaled.jpg
END:VEVENT
END:VCALENDAR