BEGIN:VCALENDAR
VERSION:2.0
PRODID:-//Eco Life Experience - ECPv6.2.6.1//NONSGML v1.0//EN
CALSCALE:GREGORIAN
METHOD:PUBLISH
X-WR-CALNAME:Eco Life Experience
X-ORIGINAL-URL:https://ecolife-experience.com
X-WR-CALDESC:Events for Eco Life Experience
REFRESH-INTERVAL;VALUE=DURATION:PT1H
X-Robots-Tag:noindex
X-PUBLISHED-TTL:PT1H
BEGIN:VTIMEZONE
TZID:UTC
BEGIN:STANDARD
TZOFFSETFROM:+0000
TZOFFSETTO:+0000
TZNAME:UTC
DTSTART:20230101T000000
END:STANDARD
END:VTIMEZONE
BEGIN:VEVENT
DTSTART;TZID=UTC:20230107T100000
DTEND;TZID=UTC:20230107T130000
DTSTAMP:20260425T114023
CREATED:20221229T195504Z
LAST-MODIFIED:20221229T195504Z
UID:10050-1673085600-1673096400@ecolife-experience.com
SUMMARY:Workshop de Produtos Naturais de Beleza e Cuidados de Saúde
DESCRIPTION:Neste workshop\, com a duração de 3h\, vamos “cozinhar” com ingredientes naturais os nossos produtos de beleza e de cuidados corporais. \nVamos aprender a fazer Óleo Corporal\, Vela para Massagem\, Charope de Figo\, Barra para o cabelo e Mel medicamentado. \nLevarás para casa todos os produtos produzidos por ti\, acompanhados com o manual onde estarão as receitas do que produzimos. \nInscrições | info@ecolife-experience.com // 968 694 146 \nFormadora | Patrícia Teles \n \nBio | Sou a Patrícia\, uma mulher divertida\, adoro natureza\, os animais\, sou feliz a conversar\, a ensinar e a passear no campo. Sou uma apaixonada pelo meu trabalho\, sinto-me realizada a “cozinhar” cosmética e pomadas! Sempre gostei de texturas\, cheiros\, cremes\, formulas químicas\, e por essa razão entrei no mundo da cosmética seletiva\, mas a preocupação com a saúde e a sustentabilidade\, levou-me a aventurar-me na área da cosmética natural. Iniciei-me no curso de BIocosmética no IPN (instituto português de naturologia)\, ao mesmo tempo\, fui seguindo a Fernanda Botelho em alguns passeios\, concluí o Curso de Formação em Plantas Aromáticas e Óleos Essenciais da faculdade de Farmácia na Universidade de Coimbra e\, por último\, um curso de pomadas caseiras com Carmen Garcia!  Trabalhar em sintonia com a natureza é utilizar os nossos 5 sentidos\, captando o poder das plantas na manutenção\, saúde e beleza da nossa pele.
URL:https://ecolife-experience.com/calendario/workshop-produtos-naturais-jan_23/
LOCATION:Eco Retiro de Galamares\, Galamares\, 2710-249 SINTRA\, Portugal
CATEGORIES:calendario,Workshops
ATTACH;FMTTYPE=image/jpeg:https://ecolife-experience.com/wp-content/uploads/2021/05/IMG_3859.jpg
END:VEVENT
BEGIN:VEVENT
DTSTART;TZID=UTC:20230115T150000
DTEND;TZID=UTC:20230115T190000
DTSTAMP:20260425T114023
CREATED:20221027T162101Z
LAST-MODIFIED:20221130T134506Z
UID:9936-1673794800-1673809200@ecolife-experience.com
SUMMARY:Workshop de Nutrição | O que é que a comida está a tentar dizer-te?
DESCRIPTION:Neste Workshop vamos explorar |\n\nO que é que os teus desafios com a Comida significam?\nQuem és tu quando comes?\nO que é que o teu apetite te está a dizer?\nComo desbloquear a Sabedoria do Corpo\nComer Emocional e Práticas de Embodiment\nOs arquétipos Femininos e Masculinos\nEscuta o teu Belly-Brain!\nAbrandar com a Comida\n\nTraz um caderno e uma caneta!\n\n\nPara quem |\n– Para qualquer um que acredita que o nosso mundo Pessoal tem impacto no nosso mundo Metabólico\n– Para aqueles com problemas de peso\, confusão nutricional\, comer emocional\, dietas intermináveis\, problemas digestivos\, desafios ao nível de sistema imunitário\, sexualidade\, imagem corporal\, comer compulsivo…\n– Para qualquer um que queira aprender\, evoluir e resgatar o seu Poder!\n\nO que é a Terapia de Nutrição Intuitiva e Emocional |\n– A Nutrição Intuitiva Emocional é uma abordagem holística\, positiva e transformacional\, que utiliza a sabedoria orgânica do Corpo bem como o conhecimento da Mente e do Coração\, para resolver de forma harmoniosa os desafios que cada um enfrenta na sua relação com a comida.\n\n– Engloba um sistema de ferramentas\, mapas\, protocolos e skills que são desenhados para ajudar cada paciente a perceber a sua história com a comida e finalmente quebrar ciclos e padrões de hábitos menos saudáveis e por vezes prejudiciais à saude do corpo\, da mente e do espírito.\n\n\nFormadora | Carolina Marau Gomes – Fundadora da Terapia Nutrição Intuitiva e Emocional\n \n“Todos os desafios que enfrentamos com a comida têm uma brilhante razão para existirem e uma linda lição para nos ensinar.”\nO meu nome é Carolina Marau e sou Terapeuta de Nutrição Intuitiva e Emocional. A minha paixão é ajudar-te a entender a tua relação com a comida e os teus hábitos e padrões indesejados em relação ao acto de comer. Abordo temas como o comer compulsivo\, o comer emocional\, dietas intermináveis\, imagem corporal\, excesso de peso\, sistema imunitário\, sexualidade e muitos outros. Acredito que enfrentamos um Confusão Nutricional ao nível global que nos desconecta da nossa Intuição e Propósito. É minha missão ajudar-te a reencontrar o teu Poder\, Liberdade e despertar a Sabedoria Orgânica do teu corpo.\n\nValor | 30\,00€ \nLocal | Eco Retiro de Galamares\, Sintra \nInscrições | info@ecolife-experience.com // 968 694 146 \n 
URL:https://ecolife-experience.com/calendario/nutricaoworkshop/
LOCATION:Eco Retiro de Galamares\, Galamares\, 2710-249 SINTRA\, Portugal
CATEGORIES:calendario,Terapias,Workshops
ATTACH;FMTTYPE=image/jpeg:https://ecolife-experience.com/wp-content/uploads/2022/10/276171175_4721650337962319_7869206179304573971_n-e1666887733228.jpg
END:VEVENT
BEGIN:VEVENT
DTSTART;TZID=UTC:20230121T140000
DTEND;TZID=UTC:20230121T170000
DTSTAMP:20260425T114023
CREATED:20230110T190408Z
LAST-MODIFIED:20230110T190408Z
UID:10095-1674309600-1674320400@ecolife-experience.com
SUMMARY:Workshop de Detergentes Ecológicos
DESCRIPTION:Se gostarias de melhorar a tua saúde e a da tua casa\, adquirir novos hábitos na hora de limpar\, esta oficina vai ajudar a que possas fazer os teus próprios detergentes e criares uma casa mais natural. \nNeste workshop iremos fazer diversos detergentes\, com ingredientes simples e naturais que facilmente se conseguem arranjar e iremos por em pratica algo simples e rentável\, sempre com o foco na nossa saúde e na do planeta. \nVamos falar de todos os ingredientes e de como podemos acrescentar cheirinhos naturais  aos nossos detergentes \nFaremos: \n\nDetergente líquido da roupa\nDetergente da roupa em pó\nMulti usos ( superfícies e chão)\nLimpa vidros\nPastilhas Desinfectante Wc\nDetergente para máquina da loiça\n\nInclui um manual  com toda a informação e receitas. \n\nInscrições | info@ecolife-experience.com // 968 694 146 \nFormadora | Sandra de Sá \nDesde que me lembro que tenho vontade de ajudar  o outro. Sou uma eterna apaixonada por aprender sempre mais\, conhecer novas pessoas e\, desde cedo\, que tenho uma enorme conexão e respeito pela Natureza e tudo o que é natural. \nAcredito que é possível despertar em cada um de nós uma nova consciência e também adotar novos estilos de vida\, pois juntos podemos contribuir para uma planeta mais puro e sustentável\, através das nossas ações diárias\, na nossa vida e na nossa casa.
URL:https://ecolife-experience.com/calendario/workshop-detergentes_ecologicos_jan/
LOCATION:Eco Retiro de Galamares\, Galamares\, 2710-249 SINTRA\, Portugal
CATEGORIES:calendario,Workshops
ATTACH;FMTTYPE=image/jpeg:https://ecolife-experience.com/wp-content/uploads/2023/01/Detergentes-ecologicos.jpg
END:VEVENT
BEGIN:VEVENT
DTSTART;TZID=UTC:20230122T100000
DTEND;TZID=UTC:20230122T140000
DTSTAMP:20260425T114023
CREATED:20220106T184011Z
LAST-MODIFIED:20230104T121044Z
UID:8953-1674381600-1674396000@ecolife-experience.com
SUMMARY:Workshop de Constelações Familiares
DESCRIPTION:É uma metodologia de terapia transpessoal\, que facilita a abertura e expansão de consciência do indivíduo para aspectos mais imediatos\, como questões profissionais\, relacionais\, cognitivas\, assim como existenciais; aquilo que quero\, o que sinto. E também\, questões espirituais. Criada pelo filósofo alemão Bert Hellinger (1925-2019) que\, ao longo da sua vida\, desenvolveu aquilo a que chamou de “pensamento sistémico”\, na medida em que envolve todos os membros de um sistema (familiar ou profissional)\, numa abordagem que enfatiza o papel das emoções e das energias que envolvem o nosso inconsciente e a forma como estas interferem nas nossas decisões\, procurando\, portanto\, aceder à “consciência sistémica” do indivíduo. \nMaterial Necessário | Roupa confortável e desportiva\, bloco de folhas brancas\, lápis\, caneta. \nSessões em grupo presenciais \nLocal | Eco Retiro de Galamares\, Sintra \nFacilitadora | Isabel Cocheira \nInscrições | sofia.fonseca@ecolife-experience.com // 968 694 146
URL:https://ecolife-experience.com/calendario/terapia-em-grupo-constelacoes-familiares_jan/
LOCATION:Eco Retiro de Galamares\, Galamares\, 2710-249 SINTRA\, Portugal
CATEGORIES:calendario,Workshops
ATTACH;FMTTYPE=image/jpeg:https://ecolife-experience.com/wp-content/uploads/2021/03/Constelacoes-Familiares-com-Margarida.jpg
END:VEVENT
BEGIN:VEVENT
DTSTART;TZID=UTC:20230128T100000
DTEND;TZID=UTC:20230128T120000
DTSTAMP:20260425T114023
CREATED:20230118T105508Z
LAST-MODIFIED:20230118T121304Z
UID:10155-1674900000-1674907200@ecolife-experience.com
SUMMARY:Atelier de Impressão Botânica | Famílias
DESCRIPTION:Desde a pré-história que as matérias naturais são transformadas em tinta. Argilas\, bagas\, folhas\, raízes e insetos criavam uma paleta rica de cores que vão desde os tons avermelhados aos castanhos\, passando pelos amarelos e esverdeados. \nNos tempos atuais\, a cultura do fast fashion fez disparar o uso de matérias artificiais com grande impacto no ambiente\, colocando-se a questão de que forma podemos reduzi-los? O uso de corantes naturais continua a ser a alternativa mais sustentável. Os pigmentos são naturais\, duráveis e com eles obtemos um vasto leque de cores! Com as diferentes técnicas de tingimento natural conseguimos criar ainda padrões únicos\, criativos e coloridos nos tecidos. \nSabias que podes pintar com azedas ou com cascas de cebola? Basta juntar água e uma pitada secreta\, para descobrir os muitos tons que a natureza nos pode oferecer.  \nVem descobrir o artista e naturalista dentro de ti! Para isso\, vamos observar\, sentir texturas diferentes\, identificar flores e folhas. Vamos descobrir quais têm corantes e criar padrões com elas. Depois\, como se de um cozinhado se trata-se\, colocamos tudo na panela ao vapor e no final terás um guardanapo reutilizável único e criado por ti! \nObjetivos das atividades |\n Consciencializar as crianças para a proteção do ambiente\,\n Conceitos sobre as plantas e corantes naturais\,\n Conhecer e saber identificar diferentes plantas\,\n Apoiar o desenvolvimento da motricidade fina\, criatividade\, confiança\, autonomia\, concentração\, entre outras capacidades. \nNota | Nos tempos de cozedura de ambas as técnicas as crianças farão alguns jogos de carácter ambiental e pinturas em papel com tintas naturais. \n  \n\n\nFormadora | Helena Pedro \nDesde criança que sou apaixonada por plantas e curiosa pelas suas formas\, cores e propriedades. Formei-me em Eng. do Ambiente e através do Ser Natureza promovo a conservação do reino vegetal\, dando a conhecer as suas potencialidades para um mundo mais sustentável! \n  \n\n 
URL:https://ecolife-experience.com/calendario/impressao_botanica_familias_jan/
LOCATION:Eco Retiro de Galamares\, Galamares\, 2710-249 SINTRA\, Portugal
CATEGORIES:calendario,Lista,Workshops
ATTACH;FMTTYPE=image/jpeg:https://ecolife-experience.com/wp-content/uploads/2023/01/IMG-20220327-WA0010.jpg
END:VEVENT
BEGIN:VEVENT
DTSTART;TZID=UTC:20230129T100000
DTEND;TZID=UTC:20230129T130000
DTSTAMP:20260425T114023
CREATED:20221219T172420Z
LAST-MODIFIED:20221219T172420Z
UID:10026-1674986400-1674997200@ecolife-experience.com
SUMMARY:Oficina Tradicional de Olaria com Ana Maló
DESCRIPTION:Nesta oficina vamos dar a conhecer a olaria e modelação do barro. A actividade proporciona a prática do trabalho na roda do oleiro e sensibilização aos vários processos envolventes assim como métodos de construção paralelos. Tendo por base a arte da produção milenar de artefactos a partir do barro\, pretende-se a abordagem aos diversos materiais e utensílios\, com técnicas variadas. \nObjectivos | Dar a conhecer os fundamentos e simbologia deste ofício ancestral e transversal à humanidade\, as qualidades do barro\, as técnicas de modelação e a sua cozedura. A formação é práctica\, com rodas de oleiro\, e serão fabricadas peças artesanais que os participantes levarão para casa. \nConteúdos | Programa \nIntrodução e apresentação \nAmassar e preparar o barro \nPráctica de Olaria: centrar o barro\, fazer tigelas\, copos\, pratos\, canecas \nAcabamentos nas peças \nObservar e compreender o ciclo de secagem \nAprender a fazer fretes\, colagens e pegamentos \nDecorações finais usando carimbos\, esgrafitado e polimento \nDestinatários | Todos os que queiram aprender e tenham interesse por técnicas rudimentares e manuais\, de forma introdutória ou queiram aprofundar conhecimentos na área da cerâmica e barro. Não é necessária experiência prévia. \nNota | As peças produzidas pelos participantes serão levadas no fim da actividades podendo\, mais tarde serem cozidas em forno a mufla\, próprio. \nLocal | Eco Retiro de Galamares\, Sintra \nInscrições | sofia.fonseca@ecolife-experience.com // 968 694 146 \nFormadora | Ana Maló
URL:https://ecolife-experience.com/calendario/workshop_jan/
LOCATION:Eco Retiro de Galamares\, Galamares\, 2710-249 SINTRA\, Portugal
CATEGORIES:calendario,Workshops
ATTACH;FMTTYPE=image/jpeg:https://ecolife-experience.com/wp-content/uploads/2021/09/IMG_20211128_120951-e1638874600572.jpg
END:VEVENT
END:VCALENDAR