BEGIN:VCALENDAR
VERSION:2.0
PRODID:-//Eco Life Experience - ECPv6.2.6.1//NONSGML v1.0//EN
CALSCALE:GREGORIAN
METHOD:PUBLISH
X-ORIGINAL-URL:https://ecolife-experience.com
X-WR-CALDESC:Events for Eco Life Experience
REFRESH-INTERVAL;VALUE=DURATION:PT1H
X-Robots-Tag:noindex
X-PUBLISHED-TTL:PT1H
BEGIN:VTIMEZONE
TZID:UTC
BEGIN:STANDARD
TZOFFSETFROM:+0000
TZOFFSETTO:+0000
TZNAME:UTC
DTSTART:20230101T000000
END:STANDARD
END:VTIMEZONE
BEGIN:VEVENT
DTSTART;TZID=UTC:20230416T100000
DTEND;TZID=UTC:20230416T130000
DTSTAMP:20260425T034558
CREATED:20230222T190610Z
LAST-MODIFIED:20230222T190610Z
UID:10454-1681639200-1681650000@ecolife-experience.com
SUMMARY:Workshop de Hortas Biológicas | Trabalho de Solo e Culturas
DESCRIPTION:A agricultura biológica respeita a terra\, as pessoas\, a natureza e o seus contributos e ciclos. Na agricultura biológica só são utilizadas práticas que não afectem o ambiente\, todos os fertilizantes utilizados são naturais\, provenientes da compostagem dos resíduos orgânicos\, com culturas adaptadas às condições de cada a região\, onde a saúde do solo é fundamental tanto para as plantas\, como os seres vivos que com ela coexistem\, preciosos auxiliares no combate de pragas e doenças. A agricultura biológica enquadra-se no verdadeiro desenvolvimento sustentável\, pois respeita profundamente a qualidade de vida das gerações presentes e futuras\, e sobretudo esta casa chamada Terra. \n– Observação do solo\, meio vivo; \n– Trabalho ecológico do solo; \n– Ferramentas mais ecológicas; \n– Sementeiras\, plantações e suas técnicas; \n– Cultivar com a Lua; \n– Técnicas de maneio (sachas\, controlo de adventícias\, regas…) \n+ 1 h para sessão de perguntas e respostas. \n\n\n\n\n\n  \nInscrições | info@ecolife-experience.com // 968 694 146 \nFormador | João Santos – Técnico agrícola\, com estágio em AB em França (Nature et Progrès\, Provence). – Horticultor biológico. – Co-fundador da Agrobio. – Ligado à Agricultura Biológica desde 1982\, foi agricultor bio\, empresário na área de distribuição ao domicílio de produtos biológicos e responsável pelo setor hortofrutícola da Biocoop (com funções de negociação\, aprovisionamento e apoio aos agricultores). – Formador em Horticultura Biológica desde 2010.
URL:https://ecolife-experience.com/calendario/workshop-de-hortas-biologicas-1a-sessao-praticas-culturais-com-joao-santos-abr/
LOCATION:Eco Retiro de Galamares\, Galamares\, 2710-249 SINTRA\, Portugal
CATEGORIES:calendario,Workshops
ATTACH;FMTTYPE=image/jpeg:https://ecolife-experience.com/wp-content/uploads/2021/03/horta-sessao-1.jpg
END:VEVENT
BEGIN:VEVENT
DTSTART;TZID=UTC:20230416T100000
DTEND;TZID=UTC:20230416T130000
DTSTAMP:20260425T034558
CREATED:20230327T145644Z
LAST-MODIFIED:20230327T145644Z
UID:10571-1681639200-1681650000@ecolife-experience.com
SUMMARY:Workshop Cuidados para Cabelo | com Patrícia Teles
DESCRIPTION:Os nossos antepassados aprenderam a utilizar o que a natureza oferece\, de forma a fortalecer e incentivar o sistema imunitário. Vem aprender a utilizar a natureza e os alimentos a favor da tua saúde. \nNeste workshop vais aprender a cuidar o teu cabelo de uma forma natural e reduzindo ao máximo a utilização de ingredientes tóxicos e o plástico! \nO que vamos aprender a fazer | \n\nChampô solido\nCondicionador solido\nÓleo para cabelo\nInfusão fortificante para cabelo\n\nLevarás para casa todos os produtos produzidos por ti\, acompanhados com o manual onde estarão as receitas trabalhadas. \n     \nInscrições | info@ecolife-experience.com // 968 694 146 \nFormadora | Patrícia Teles \nBio | Sou a Patrícia\, uma mulher divertida\, adoro natureza\, os animais\, as crianças\, sou feliz a conversar\, a ensinar e a passear no campo. Sou uma apaixonada pelo me trabalho\, sinto-me realizada a “cozinhar” cosmética\, pomadas e remédios naturais! Sempre gostei de texturas\, cheiros\, cremes\, formulas químicas\, e por essa razão entrei no mundo da cosmética seletiva\, mas a preocupação com a saúde e a sustentabilidade\, levou-me a aventurar-me na área da cosmética natural. Iniciei-me no curso de BIocosmética no IPN (instituto português de naturologia)\, ao mesmo tempo\, fui seguindo a Fernanda Botelho em alguns passeios\, conclui o curso de Formação em plantas aromáticas e Óleos Essenciais da faculdade de farmácia na Universidade de Coimbra e por último um curso de pomadas caseiras com Carmen Garcia!  Trabalhar em sintonia com a natureza\, é utilizar os nossos 5 sentidos\, captando o poder das plantas na manutenção\, saúde e beleza da nossa pele.
URL:https://ecolife-experience.com/calendario/cuidados_cabelo_abr/
LOCATION:Eco Retiro de Galamares\, Galamares\, 2710-249 SINTRA\, Portugal
CATEGORIES:calendario,Workshops
ATTACH;FMTTYPE=image/jpeg:https://ecolife-experience.com/wp-content/uploads/2022/03/IMG_44141-rotated-e1648211984380.jpg
END:VEVENT
END:VCALENDAR