BEGIN:VCALENDAR
VERSION:2.0
PRODID:-//Eco Life Experience - ECPv6.2.6.1//NONSGML v1.0//EN
CALSCALE:GREGORIAN
METHOD:PUBLISH
X-WR-CALNAME:Eco Life Experience
X-ORIGINAL-URL:https://ecolife-experience.com
X-WR-CALDESC:Events for Eco Life Experience
REFRESH-INTERVAL;VALUE=DURATION:PT1H
X-Robots-Tag:noindex
X-PUBLISHED-TTL:PT1H
BEGIN:VTIMEZONE
TZID:UTC
BEGIN:STANDARD
TZOFFSETFROM:+0000
TZOFFSETTO:+0000
TZNAME:UTC
DTSTART:20250101T000000
END:STANDARD
END:VTIMEZONE
BEGIN:VEVENT
DTSTART;TZID=UTC:20250419T093000
DTEND;TZID=UTC:20250419T173000
DTSTAMP:20260422T024935
CREATED:20200211T164812Z
LAST-MODIFIED:20250324T105557Z
UID:6262-1745055000-1745083800@ecolife-experience.com
SUMMARY:Curso de Cânhamo: Do Cultivo à Transformação
DESCRIPTION:Cultivo\, Alimento e Tecido de Cânhamo \nEste workshop foi estruturado em dois momentos distintos: Durante a manhã\, os participantes explorarão o cultivo do cânhamo\, abordando sua história\, potencial de mercado e aplicações na alimentação. Na parte da tarde\, será a vez de mergulhar no trabalho com a fibra de cânhamo\, aprendendo sobre a transformação da planta em tecido por meio de processos artesanais. \nCom uma forte componente prática e técnica\, os participantes terão contato direto com o processo produtivo\, desde o cultivo até a criação de produtos alimentares e têxteis. A programação foi pensada para capacitar agricultores\, empreendedores e interessados no setor agroambiental\, oferecendo conhecimentos fundamentais sobre as possibilidades do cânhamo em Portugal. Além disso\, promove-se um espaço de partilha entre futuros produtores e especialistas da área. \nMANHÃ \nConteúdos | \nO cultivo de cânhamo em Portugal \n\nHistória e percurso da cultura do cânhamo\nDiferenças entre cânhamo e cannabis\nLegislação e procedimentos legais\nPotencial produtivo e oportunidades de mercado\nProdutos derivados do cânhamo\n\nShowcooking e degustação \n\nProdução de bebidas e óleos vegetais à base de cânhamo\nPreparação de snacks proteicos e sobremesas veganas\nAlmoço com pratos preparados com cânhamo\n\n\nTARDE \n\nTrabalho com a fibra de cânhamo \n\nWorkshop “Da planta ao fio”\nProcessos de descortiçamento\, espadelagem\, sedagem e fiação\nIntrodução à fiação artesanal\n\nDestinatários |Todos os interessados no cultivo do cânhamo e suas aplicações alimentares e têxteis\, incluindo agricultores\, empreendedores e curiosos que desejam aprender sobre esta cultura sustentável e inovadora. \nInclui | materiais e um PDF informativo sobre a cultura do cânhamo \nValor | Manhã 90€ (s/iva) inclui almoço \nTarde 56€ (s/iva) \nVagas limitadas: Mínimo de 7 participantes\, máximo de 15 \nFormadoras |Lilian Ribeiro\, Mariana Amorim e Rita Oliveira \nAs “7 irmãs” é um projeto com foco na produção e promoção de cânhamo produzido localmente e de produtos artesanais diversificados à base desta planta. Óleo de CBD\, cosméticos à base de cânhamo\, produtos de fibra de cânhamo e workshops são alguns exemplos da nossa oferta.  Alice é responsável pela parte relacionada com os processos de transformação da fibra\, fiação e tecelagem. \n     \n  \n\n\n 
URL:https://ecolife-experience.com/calendario/curso_canhamo-abril/
LOCATION:Eco Retiro de Galamares\, Galamares\, 2710-249 SINTRA\, Portugal
CATEGORIES:Cursos
ATTACH;FMTTYPE=image/jpeg:https://ecolife-experience.com/wp-content/uploads/2020/02/WhatsApp-Image-2025-03-19-at-10.59.12.jpeg
END:VEVENT
END:VCALENDAR