BEGIN:VCALENDAR
VERSION:2.0
PRODID:-//Eco Life Experience - ECPv6.2.6.1//NONSGML v1.0//EN
CALSCALE:GREGORIAN
METHOD:PUBLISH
X-ORIGINAL-URL:https://ecolife-experience.com
X-WR-CALDESC:Events for Eco Life Experience
REFRESH-INTERVAL;VALUE=DURATION:PT1H
X-Robots-Tag:noindex
X-PUBLISHED-TTL:PT1H
BEGIN:VTIMEZONE
TZID:UTC
BEGIN:STANDARD
TZOFFSETFROM:+0000
TZOFFSETTO:+0000
TZNAME:UTC
DTSTART:20230101T000000
END:STANDARD
END:VTIMEZONE
BEGIN:VEVENT
DTSTART;TZID=UTC:20231104T113000
DTEND;TZID=UTC:20231104T120000
DTSTAMP:20260423T133058
CREATED:20230619T151335Z
LAST-MODIFIED:20231204T150227Z
UID:10804-1699097400-1699099200@ecolife-experience.com
SUMMARY:Yoga Fun | Crianças e Famílias
DESCRIPTION:Yoga Divertido para Crianças e Famílias! \n  \nJunte-se a nós para uma manhã de conexão e bem-estar no Eco Retiro de Galamares\, Sintra. \nAqui está o que esperar:\n9h45: Chegada e uma breve exploração do espaço.\n10h00 – 11h00: Yoga e Meditação para pais e os seus pequeninos (apenas um adulto acompanha a criança). \nDesfrute de atividades dinâmicas que promovem o desenvolvimento natural e global das crianças\, incentivando o respeito por si mesmas como indivíduos únicos e nas suas relações com os outros. \nAdequado para bebés\, crianças (de 6 meses a 9 anos) e os seus cuidadores adultos. Materiais incluídos. \nValor: 20 € (inclui 1 adulto + 1 criança) \nInscrições: info@ecolife-experience.com ou Ligue para: 968 694 146 \n  \nFacilitado por Susana Dias\, Psicóloga Clínica\, Terapeuta Holística e Professora de Yoga.
URL:https://ecolife-experience.com/calendario/yogafun_jan/
LOCATION:Eco Retiro de Galamares\, Galamares\, 2710-249 SINTRA\, Portugal
CATEGORIES:calendario,Susana Dias,Workshops,Yoga
ATTACH;FMTTYPE=image/jpeg:https://ecolife-experience.com/wp-content/uploads/2020/11/126809707_202866067910826_1692200031271508671_n.jpg
END:VEVENT
END:VCALENDAR