BEGIN:VCALENDAR
VERSION:2.0
PRODID:-//Eco Life Experience - ECPv6.2.6.1//NONSGML v1.0//EN
CALSCALE:GREGORIAN
METHOD:PUBLISH
X-WR-CALNAME:Eco Life Experience
X-ORIGINAL-URL:https://ecolife-experience.com
X-WR-CALDESC:Events for Eco Life Experience
REFRESH-INTERVAL;VALUE=DURATION:PT1H
X-Robots-Tag:noindex
X-PUBLISHED-TTL:PT1H
BEGIN:VTIMEZONE
TZID:UTC
BEGIN:STANDARD
TZOFFSETFROM:+0000
TZOFFSETTO:+0000
TZNAME:UTC
DTSTART:20240101T000000
END:STANDARD
END:VTIMEZONE
BEGIN:VEVENT
DTSTART;TZID=UTC:20240525T100000
DTEND;TZID=UTC:20240525T104500
DTSTAMP:20260423T003400
CREATED:20240314T105544Z
LAST-MODIFIED:20240502T102247Z
UID:12137-1716631200-1716633900@ecolife-experience.com
SUMMARY:Yoga Fun | Crianças e Famílias - Children and Families
DESCRIPTION:CRIANÇAS FELIZES\, MENTES TRANQUILAS! \nAs sessões previamente planificadas para famílias são muito divertidas e não competitivas visando desenvolver o potencial da criança/família\, com as suas capacidades criativas\, intuitivas\, éticas\, físicas\, emocionais e intelectuais. \nAtravés das histórias\, músicas\, jogos\, relaxamentos\, construções\, pintura\, desenho\, dobragens (origami)\, entre muitas outras estratégias cultivamos os princípios da não violência\, da verdade\, da paz e da alegria\, preparam o corpo para o desenvolvimento da inteligência e das emoções. \nBenefícios: \n\nPromove o relaxamento e concentração;\nEstimula o sentido estético e a criatividade;\nPromove a autoestima\, autoconfiança e autoconhecimento;\nCombate a ansiedade e o stress;\nTrabalha a coordenação motora e o equilíbrio;\nEquilibra o sistema nervoso e o sistema endócrino;\nFortalece o sistema imunitário;\nAumenta a capacidade de assimilação intelectual;\nDesenvolve o espírito de grupo e a cooperação;\nPromove uma consciencialização ecológica e humanitária;\n\n  \nMaterial Necessário: \n\nSorrisos\nAmor\nRespeito\nGarrafa de água cheia\nRoupa desportiva\nMeias antiderrapantes\n\nNota | Bebés\, crianças (dos 4 aos 12 anos) e cuidadores adultos. \nLocal | Eco Retiro de Galamares\, Sintra \nInscrições | info@ecolife-experience.com // 968 694 146 \nValor | Doação consciente \nFacilitadora | Sandra da Rocha –  Chamo me Sandra\,sou professora de yogakids pela Escola Sunshine Yoga entre várias outras valências. Adoro crianças\, brincar e miminhos! \n  \nEN \nHAPPY CHILDREN\, CALM MINDS! \n10:00 – 10:45 – Yoga and Meditation for parents and little ones \nThe pre-planned family sessions are very fun and non-competitive\, aiming to develop the potential of the child/family\, with their creative\, intuitive\, ethical\, physical\, emotional\, and intellectual capacities. \nThrough stories\, music\, games\, relaxations\, constructions\, painting\, drawing\, folding (origami)\, among many other strategies\, we cultivate the principles of non-violence\, truth\, peace\, and joy\, preparing the body for the development of intelligence and emotions. \nBenefits: \nPromotes relaxation and concentration;\nStimulates aesthetic sense and creativity;\nPromotes self-esteem\, self-confidence\, and self-awareness;\nCombats anxiety and stress;\nWorks on motor coordination and balance;\nBalances the nervous and endocrine systems;\nStrengthens the immune system;\nIncreases intellectual assimilation capacity;\nDevelops group spirit and cooperation;\nPromotes ecological and humanitarian awareness; \nRequired Material: \nSmiles\nLove\nRespect\nFull water bottle\nSportswear\nNon-slip socks \nNote | Babies\, children (from 4 to 12 years old)\, and adult caregivers. \nLocation | Eco Retreat Galamares\, Sintra \nRegistration | info@ecolife-experience.com // 968 694 146 \nValue | Conscious donation \nFacilitator | Sandra da Rocha – My name is Sandra\, I am a yogakids teacher certified by the Sunshine Yoga School among various other skills. I love children\, playing\, and cuddles! \n 
URL:https://ecolife-experience.com/calendario/yogafun_maio/
LOCATION:Eco Retiro de Galamares\, Galamares\, 2710-249 SINTRA\, Portugal
CATEGORIES:calendario,Susana Dias,Workshops,Yoga
ATTACH;FMTTYPE=image/jpeg:https://ecolife-experience.com/wp-content/uploads/2024/04/IMG-20230123-WA0052.jpg
END:VEVENT
END:VCALENDAR