BEGIN:VCALENDAR
VERSION:2.0
PRODID:-//Eco Life Experience - ECPv6.2.6.1//NONSGML v1.0//EN
CALSCALE:GREGORIAN
METHOD:PUBLISH
X-ORIGINAL-URL:https://ecolife-experience.com
X-WR-CALDESC:Events for Eco Life Experience
REFRESH-INTERVAL;VALUE=DURATION:PT1H
X-Robots-Tag:noindex
X-PUBLISHED-TTL:PT1H
BEGIN:VTIMEZONE
TZID:UTC
BEGIN:STANDARD
TZOFFSETFROM:+0000
TZOFFSETTO:+0000
TZNAME:UTC
DTSTART:20250101T000000
END:STANDARD
END:VTIMEZONE
BEGIN:VEVENT
DTSTART;TZID=UTC:20250419T150000
DTEND;TZID=UTC:20250419T173000
DTSTAMP:20260421T224356
CREATED:20230222T185523Z
LAST-MODIFIED:20250417T145015Z
UID:10444-1745074800-1745083800@ecolife-experience.com
SUMMARY:Workshop Remédios Naturais | Natural Remedies Workshop
DESCRIPTION:Os nossos antepassados aprenderam a utilizar o que a natureza oferece\, para fortalecer e incentivar o sistema imunitário.  \nVamos aprender a utilizar a natureza e os alimentos a favor da nossa saúde. De forma natural podemos ajudar a fortalecer o sistema imunitário e apaziguar os sintomas. Existem alimentos ricos em micronutrientes\, que quando misturados e tomados na dose certa\, podem fazer diferença no estado de saúde e em alturas de convalescença. \nO que vamos aprender: \n\n“Comprimido” de folha de Oliveira;\nInfusão de esteva;\nInfusão de raízes\, plantas e sementes;\nMel medicamentado;\nVick natural.\n\nOs participantes irão levar para casa os produtos produzidos\, acompanhados com o manual onde estarão as receitas trabalhadas. \nLocal | Eco Retiro de Galamares\, Sintra \nInscrições | info@ecolife-experience.com // 968 694 146 \nValor | 40€ (s/iva) \nFacilitadora | Patrícia Teles – Sou a Patrícia\, uma mulher divertida\, adoro natureza\, os animais\, sou feliz a conversar\, a ensinar e a passear no campo. Sou uma apaixonada pelo meu trabalho\, sinto-me realizada a “cozinhar” cosmética e pomadas! Sempre gostei de texturas\, aromas\, cremes\, formulas químicas\, e por essa razão entrei no mundo da cosmética seletiva\, mas a preocupação com a saúde e a sustentabilidade\, levou-me a aventurar na área da cosmética natural. Iniciei-me no curso de BIocosmética no IPN (instituto português de naturologia) e\, ao mesmo tempo\, fui fazendo caminhadas no campo para reconhecimento de plantas com quem mais sabe sobre o assunto. Concluí o curso de Formação em plantas aromáticas e Óleos Essenciais da faculdade de farmácia na Universidade de Coimbra e por último um curso de pomadas caseiras com Carmen Garcia!  Trabalhar em sintonia com a natureza\, é utilizar os nossos 5 sentidos\, captando o poder das plantas na manutenção\, saúde e beleza do nosso corpo. \n  \nEN \nOur ancestors learned to utilize what nature offers to strengthen and encourage the immune system. \nWe will learn how to use nature and food in favor of our health. Naturally\, we can help strengthen the immune system and alleviate symptoms. There are foods rich in micronutrients that\, when mixed and taken in the right dose\, can make a difference in health and during recovery. \nWhat we will learn: \n\n“Olive Leaf Pill”\nHeather infusion\nInfusion of roots\, plants\, and seeds\nMedicated honey\nNatural Vick’s\n\nParticipants will take home the products produced\, accompanied by a manual containing the worked recipes. \nLocation | Eco Retreat Galamares\, Sintra \nRegistration | info@ecolife-experience.com // 968 694 146 \nCost | €40 (n/iva) \nFacilitator | Patrícia Teles – I’m Patrícia\, a fun-loving woman who adores nature\, animals\, and finds joy in conversation\, teaching\, and walking in the countryside. I am passionate about my work and feel fulfilled “cooking” cosmetics and ointments! I have always been drawn to textures\, aromas\, creams\, chemical formulas\, which led me to enter the world of selective cosmetics. Concerns for health and sustainability led me to venture into the field of natural cosmetics. I started the Biocosmetics course at IPN (Portuguese Institute of Naturopathy) and\, at the same time\, took walks in the countryside for plant recognition with those who know the subject best. I completed the Aromatic Plants and Essential Oils Training course at the Faculty of Pharmacy at the University of Coimbra\, and lastly\, a course on homemade ointments with Carmen Garcia! Working in harmony with nature involves using our five senses\, capturing the power of plants in maintaining the health and beauty of our bodies. \n 
URL:https://ecolife-experience.com/calendario/remedios_naturais_abril/
LOCATION:Eco Retiro de Galamares\, Galamares\, 2710-249 SINTRA\, Portugal
CATEGORIES:calendario,Workshops
ATTACH;FMTTYPE=image/jpeg:https://ecolife-experience.com/wp-content/uploads/2022/03/74911320-4317-4300-a0fe-b6d77da261f7.jpg
END:VEVENT
END:VCALENDAR