BEGIN:VCALENDAR
VERSION:2.0
PRODID:-//Eco Life Experience - ECPv6.2.6.1//NONSGML v1.0//EN
CALSCALE:GREGORIAN
METHOD:PUBLISH
X-ORIGINAL-URL:https://ecolife-experience.com
X-WR-CALDESC:Events for Eco Life Experience
REFRESH-INTERVAL;VALUE=DURATION:PT1H
X-Robots-Tag:noindex
X-PUBLISHED-TTL:PT1H
BEGIN:VTIMEZONE
TZID:UTC
BEGIN:STANDARD
TZOFFSETFROM:+0000
TZOFFSETTO:+0000
TZNAME:UTC
DTSTART:20260101T000000
END:STANDARD
TZID:Europe/Lisbon
BEGIN:DAYLIGHT
TZOFFSETFROM:+0000
TZOFFSETTO:+0100
TZNAME:WEST
DTSTART:20260329T010000
END:DAYLIGHT
BEGIN:STANDARD
TZOFFSETFROM:+0100
TZOFFSETTO:+0000
TZNAME:WET
DTSTART:20261025T010000
END:STANDARD
END:VTIMEZONE
BEGIN:VEVENT
DTSTART;TZID=UTC:20260927T100000
DTEND;TZID=UTC:20260927T120000
DTSTAMP:20260421T161132
CREATED:20210302T124656Z
LAST-MODIFIED:20251104T112937Z
UID:6761-1790503200-1790510400@ecolife-experience.com
SUMMARY:Caminhadas de Reconexão em Silêncio - Quinta da Ribafria
DESCRIPTION:As caminhadas são muito mais do que um exercício físico\, caminhar é uma terapia espiritual\, cada passo é um apelo à meditação\, um momento em que a mente e corpo se juntam e\, em equilíbrio\, promovem uma sensação de bem-estar e liberdade que nos transporta para a verdadeira dimensão de nós mesmos. \nCaminhar na natureza e em silêncio\, é dar espaço para observar tudo o que nos envolve sem julgamento e\, lentamente\, avançarmos na dimensão de tempo que nos é natural. Fazer parte do todo\, permite religarmos os nossos sentidos num único propósito; estar aqui e agora! E é nesse momento que nos invade uma sensação de tranquilidade\, bem-estar e alegria\, em que nos sentimos verdadeiramente religados\, numa leveza emocional que nos é tão inerente\, que podemos resgatá-la em qualquer momento. Caminhar na natureza\, permite-nos estar disponível para o nosso ser espiritual\, nesta e noutras dimensões\, e é nessa ligação que encontramos a paz e a leveza de ser. Caminhar na natureza\, descalço\, abraçar as árvores\, é considerado por muitos como uma ecoterapia\, um “banho de floresta” – “Forest bathing” – e está já provado que pode melhorar a nossa saúde. Na verdade\, as ecoterapias existem porque nos afastamos da nossa verdadeira essência\, o ser natural e espiritual que somos. Voltar a estar na natureza é um processo urgente\, para a nossa saúde física\, mental emocional e\, obviamente\, espiritual. \nPercurso | Quinta da Ribafria \nPercurso Linear 2h \nPonto de Encontro | A indicar no momento da inscrição \nValor| 10€ \nRecomendações | Prever roupa confortável e calçado desportivo\, conforme a época do ano. Trazer água – como entidade focada na sustentabilidade\, não fornecemos garrafas de plástico e incentivamos que\, cada participante traga o seu termo (ou outro) reutilizável. \nInscrições: sofia.fonseca@ecolife-experience.com * 968694146
URL:https://ecolife-experience.com/calendario/caminhadas-de-reconexao-da-quintadaribafria_setembro/
LOCATION:Sintra\, Sintra\, Portugal
CATEGORIES:calendario,Caminhadas,Sofia Fonseca
ATTACH;FMTTYPE=image/jpeg:https://ecolife-experience.com/wp-content/uploads/2021/03/caminhada-castelo.jpg
END:VEVENT
BEGIN:VEVENT
DTSTART;TZID=Europe/Lisbon:20261003T080000
DTEND;TZID=Europe/Lisbon:20261008T170000
DTSTAMP:20260421T161132
CREATED:20260311T124501Z
LAST-MODIFIED:20260323T101810Z
UID:12935-1791014400-1791478800@ecolife-experience.com
SUMMARY:RETIRO DE RECONEXÃO\, CORPO\, MENTE\, ESPÍRITO E NATUREZA
DESCRIPTION:Datas: 3 a 8 de Outubro 26 – Ilha do Pico Açores \nRETIRO DE RECONEXÃO\, CORPO\, MENTE\, ESPÍRITO E NATUREZA \nMuitos de nós vivemos bloqueados e reféns de condicionalismos externos e internos\, não exercendo a Liberdade que dispomos para sermos quem queremos ser. Este retiro é uma proposta de reconexão com o nosso ser mais íntimo\, através da integração de corpo\, mente\, espírito e natureza. Aqui\, vamos dar primazia ao que sentimos e intuímos\, em silêncio\, devolvendo o nosso espírito de pertença\, com outro olhar sobre a vida e sobre nós mesmos. \nO Retiro de Reconexão combina práticas de autoconhecimento\, mindfulness\, respiração e conexão com a natureza. Tem como objetivo ajudá-lo a reconectar-se com a sua verdadeira essência e a encontrar um sentido de propósito e significado na sua vida. \n\nCaminhadas em silencio e mindfulness\nExercícios sistémicos e constelações familiares em grupo\nExercícios tibetanos\nExercícios de respiração consciente\nExercícios de reconexão com a natureza\noutras praticas\n\n\n\n\n\nFacilitadora do Retiro \n \n\n\n\nSOFIA FONSECA \nEstudou Marketing e Publicidade (licenciatura)\, Gestão de Empresas Hoteleiras (Bacharelato) e Gestão e Criação de Produtos Turísticos (Pós- Graduação)\, trabalhou em marketing até ter criado a Fuga Perfeita – Animação e Turismo Cultural\, em 2004. Sempre foi uma pessoa de projectos e causas\, AMA a NATUREZA\, e tomou consciência das incongruências que praticamos enquanto sociedade de consumo\, em relação ao homem enquanto ser\, em relação ao planeta e em relação a todos os seres vivos que nele habitam e\, desde então\, procura nas suas práticas diárias\, viver de uma forma mais \n\n\n\n\n\n\nsustentável e consciente\, com profundo respeito e equilíbrio com a Natureza e a sua Biodiversidade. Mentora do projecto Eco Life Experience\, dedica a sua vida a ajudar pessoas a redescobrirem um caminho mais consciente de reconexão consigo mesmo e com a natureza. \nValor: 850 €/pax em quarto Twin ou Duplo. \n*800 €/pax para inscrições até 30 de março \n5 Noites com pequeno-almoço – 5 dias com 5 Almoços e 4 jantares. Alojamento – Portas do Mar\, São Roque\, Ilha do Pico. Refeições Vegetarianas. \nRetiro Limitado a 8 pessoas. Não inclui: Viagens de Avião e Transfere para o alojamento e bebidas alcoólicas. \nMais informações envie email para. info@ecolife-experience.com Os valores apresentados não incluem o IVA. \n \n    \n.
URL:https://ecolife-experience.com/calendario/retiro-de-reconexao-corpo-mente-espirito-e-natureza/
CATEGORIES:calendario,Retiros
ATTACH;FMTTYPE=image/png:https://ecolife-experience.com/wp-content/uploads/2026/03/image002.png
END:VEVENT
END:VCALENDAR