BEGIN:VCALENDAR
VERSION:2.0
PRODID:-//Eco Life Experience - ECPv6.2.6.1//NONSGML v1.0//EN
CALSCALE:GREGORIAN
METHOD:PUBLISH
X-ORIGINAL-URL:https://ecolife-experience.com
X-WR-CALDESC:Events for Eco Life Experience
REFRESH-INTERVAL;VALUE=DURATION:PT1H
X-Robots-Tag:noindex
X-PUBLISHED-TTL:PT1H
BEGIN:VTIMEZONE
TZID:UTC
BEGIN:STANDARD
TZOFFSETFROM:+0000
TZOFFSETTO:+0000
TZNAME:UTC
DTSTART:20240101T000000
END:STANDARD
END:VTIMEZONE
BEGIN:VEVENT
DTSTART;TZID=UTC:20240706T100000
DTEND;TZID=UTC:20240706T110000
DTSTAMP:20260421T120237
CREATED:20240202T104842Z
LAST-MODIFIED:20240605T084255Z
UID:11892-1720260000-1720263600@ecolife-experience.com
SUMMARY:Art and Fun | Famílias - Families
DESCRIPTION:Meninos e meninas\, vamos brincar e criar\, dando asas à imaginação! \nVamos explorar os sentidos e as sensações\, as cores e as formas\, os cheiros e as texturas\, tudo com materiais naturais e sustentáveis. \nVamos divertimo-nos com a natureza. \n\n\n\nObjetivos| \n\nPromover o contacto com materiais naturais e diferentes do quotidiano\nExplorar os sentidos\nPromover a exploração gratuita\nCapacitar para a criatividade e as habilidades motoras\nApoiar o desenvolvimento da confiança\, autonomia\, concentração\, etc.\n\n\n\nValor| 20€ – 1 adulto e 1 criança (bebés de 1 ano até crianças de 4 anos). (s/iva) \nPor 1 ADULTO ou CRIANÇA adicional valor 10€ \nInscrições | info@ecolife-experience.com // 968 694 146 \nNota | Trazer roupa para sujar (adulto e bebé/criança). Pf comunicar\, no ato da inscrição\, caso existam alergias dos bebés/crianças. \nFormadora | Helena Pedro \n\n\nDesde criança que sou apaixonada por plantas e curiosa pelas suas formas\, cores e propriedades. Formei-me em Eng. do Ambiente e através do Ser Natureza promovo a conservação do reino vegetal\, dando a conhecer as suas potencialidades para um mundo mais sustentável! \n  \nEN \nBoys and girls\, let’s play and create\, let’s unleashing our imagination! \nLet’s explore the senses and sensations\, colours and shapes\, smells and textures\, all with natural and sustainable materials. \nLet’s have fun with nature. \nObjectives \n\nPromote contact with natural materials\, different from the synthetic ones found in everyday life\nExplore the senses\nPromote free exploration\nEmpower creativity and motor skills\nSupport the development of confidence\, autonomy\, concentration\, etc.\n\nNote | The price indicated is for 1 adult + 1 child (aged 1 to 4). Bring clothes you don’t mind getting dirty (adult and baby/child). Please communicate any allergies of babies/children at the time of registration. \nPrice: €20 – 1 adult and 1 child (babies from 1 year to children of 4 years) (excluding VAT). \nFor each additional ADULT or CHILD\, an extra fee of €10 will apply. \nSign up at | info@ecolife-experience.com // 968 694 146 \n  \n\n 
URL:https://ecolife-experience.com/calendario/artfun_julho/
LOCATION:Eco Retiro de Galamares\, Galamares\, 2710-249 SINTRA\, Portugal
CATEGORIES:calendario,Lista,Workshops,Workshops
ATTACH;FMTTYPE=image/jpeg:https://ecolife-experience.com/wp-content/uploads/2023/10/IMG-20231104-WA0035.jpg
END:VEVENT
BEGIN:VEVENT
DTSTART;TZID=UTC:20240706T113000
DTEND;TZID=UTC:20240706T130000
DTSTAMP:20260421T120237
CREATED:20240212T130909Z
LAST-MODIFIED:20240605T100418Z
UID:11967-1720265400-1720270800@ecolife-experience.com
SUMMARY:Atelier de Impressão Botânica | Famílias - Botanical print| Families
DESCRIPTION:DA NATUREZA PARA O PAPEL: IMPRESSÕES ÚNICAS\, ARTE INFINITA! \nSabias que podes pintar com azedas ou com cascas de cebola? Basta juntar água e uma pitada secreta\, para descobrir os muitos tons que a natureza nos pode oferecer. \nDescobre o artista e naturalista dentro de ti! Para isso vamos observar\, sentir texturas e identificar flores e folhas. Vamos descobrir quais têm bons corantes e criar arte com elas. Depois colocamos tudo na panela e no final terás um saco único e personalizado por ti! \nObjetivos da atividade | \n\nConsciencializar as crianças para a proteção do ambiente\nReflexão sobre o uso dos corantes e fibras sintéticas\nIdentificar diferentes plantas\nConceito de pigmento como corante natural\nApoiar o desenvolvimento da motricidade fina\, criatividade\, confiança\, autonomia\, concentração\, entre outras capacidades\n\nNos tempos de cozedura de ambas as técnicas as crianças farão alguns jogos de carácter ambiental e pinturas em papel com tintas naturais. \nNota | Crianças (dos 6 aos 12 anos) e cuidadores adultos. Materiais incluídos \nLocal | Eco Retiro de Galamares\, Sintra \nInscrições | info@ecolife-experience.com // 968 694 146 \nValor | 20€ (1 adulto + 1 criança) (s/iva) \nPor 1 ADULTO ou CRIANÇA adicional valor 10€ \nFacilitadora | Helena Pedro – Desde criança que sou apaixonada por plantas e curiosa pelas suas formas\, cores e propriedades. Formei-me em Eng. do Ambiente e através do Ser Natureza promovo a conservação do reino vegetal\, dando a conhecer as suas potencialidades para um mundo mais sustentável! \n\nEN \nFROM NATURE TO PAPER: UNIQUE IMPRESSIONS\, INFINITE ART! \nDid you know you can paint with sorrel or onion skins? Just add water and a secret pinch to discover the many shades that nature can offer us. \nUncover the artist and naturalist within you! Let’s observe\, feel textures\, and identify flowers and leaves. Let’s discover which ones have good dyes and create art with them. Then we put everything in the pot\, and in the end\, you’ll have a unique bag personalized by you! \nActivity Objectives: \nRaise awareness among children for environmental protection\nReflection on the use of dyes and synthetic fibers\nIdentify different plants\nConcept of pigment as a natural dye\nSupport the development of fine motor skills\, creativity\, confidence\, autonomy\, concentration\, among other abilities \nDuring the cooking times of both techniques\, children will play some environmentally themed games and paint on paper with natural dyes. \nNote: Children (6 to 12 years old) and adult caregivers. Materials included. \nLocation: Eco Retreat Galamares\, Sintra \nRegistrations: info@ecolife-experience.com // 968 694 146 \nPrice: €20 (1 adult + 1 child) (excluding VAT) \nFor 1 ADDITIONAL ADULT or CHILD\, the price is €10. \nFacilitator: Helena Pedro – Since childhood\, I have been passionate about plants and curious about their shapes\, colors\, and properties. I graduated in Environmental Engineering\, and through Being Nature\, I promote the conservation of the plant kingdom\, revealing its potential for a more sustainable world! \n\n\n 
URL:https://ecolife-experience.com/calendario/impressao_botanica_familias_julho/
LOCATION:Eco Retiro de Galamares\, Galamares\, 2710-249 SINTRA\, Portugal
CATEGORIES:calendario,Lista,Workshops
ATTACH;FMTTYPE=image/jpeg:https://ecolife-experience.com/wp-content/uploads/2023/05/IMG_0771.jpg
END:VEVENT
BEGIN:VEVENT
DTSTART;TZID=UTC:20240707T100000
DTEND;TZID=UTC:20240707T140000
DTSTAMP:20260421T120237
CREATED:20240131T094127Z
LAST-MODIFIED:20240704T100744Z
UID:11858-1720346400-1720360800@ecolife-experience.com
SUMMARY:Constelações Familiares em grupo - Group family constellations
DESCRIPTION:Criada pelo filósofo alemão Bert Hellinger (1925-2019) que\, ao longo da sua vida\, desenvolveu aquilo a que chamou “pensamento sistémico”\, enquanto envolve todos os membros de um sistema (familiar ou profissional)\, numa abordagem que enfatiza o papel das emoções e das energias que envolvem o nosso inconsciente e como estas interferem nas nossas decisões\, procurando\, portanto\, aceder à “consciência sistémica” do indivíduo. \nÉ uma metodologia de terapia transpessoal\, que facilita a abertura e expansão de consciência do indivíduo para aspetos mais imediatos\, como questões profissionais\, relacionais\, cognitivas\, assim como existenciais; aquilo que quero\, o que sinto. E também\, questões espirituais. \nMaterial Necessário | Roupa confortável e desportiva\, bloco de folhas brancas\, lápis\, caneta. \nLocal | Calçada de São Pedro nº14\, 2710-507  Sintra \nInscrições | info@ecolife-experience.com // 968 694 146 \nValor | (s/iva) \n45€ ser constelado e participar no processo de constelação dos outros participantes \n35€ participar no processo de constelação dos outros participantes \nFacilitadora | Isabel Cocheira \n  \nEN \nThe approach was created by the German philosopher Bert Hellinger (1925-2019)\, who\, throughout his life\, developed a concept he called “systemic thinking”\, involving all members of a system (family or professional). It emphasizes the role of emotions and energies that surround our unconscious and how these interfere with our decisions. Thus\, the approach is based on seeking access to the individual’s  systemic consciousness. \nIt is a transpersonal therapy that facilitates the opening and expansion of individual consciousness to more immediate\, aspects\, such as professional\, relational\, cognitive and existential issues—what I want\, what I feel. And also spiritual aspects. \nMaterial Required | Comfortable sporty clothing\, a pad of white paper\, pencils\, pen \nLocation |Calçada de São Pedro nº14\, 2710-507  Sintra \nSign up at | info@ecolife-experience.com // 968 694 146 \nPrice | \n€45 to be constellated and participate in the constellation process of other participants. \n€30 to participate in the constellation process of other participants. \nFacilitator | Isabel Cocheira
URL:https://ecolife-experience.com/calendario/terapia-em-grupo-constelacoes-familiares_julho-7/
LOCATION:Eco Retiro de Galamares\, Galamares\, 2710-249 SINTRA\, Portugal
CATEGORIES:calendario,Isabel Cocheira,Workshops
ATTACH;FMTTYPE=image/jpeg:https://ecolife-experience.com/wp-content/uploads/2021/03/Constelacoes-Familiares-com-Margarida.jpg
END:VEVENT
BEGIN:VEVENT
DTSTART;TZID=UTC:20240708T180000
DTEND;TZID=UTC:20240708T210000
DTSTAMP:20260421T120237
CREATED:20240131T094832Z
LAST-MODIFIED:20240624T215149Z
UID:11870-1720461600-1720472400@ecolife-experience.com
SUMMARY:Noites de Resgate do Ser - Self-discovery and Renewal Evenings
DESCRIPTION:Estes momentos são um lugar seguro de conexão contigo\, de partilha e auto-conhecimento. \nMomentos de  Mini-Constelações Familiares. \nLocal | Eco Retiro de Galamares\, Sintra \nFacilitadoras | Sofia Fonseca Valor | 30 € (s/iva) \nInscrições | info@ecolife-experience.com // 968 694 146 \n  \nEN \nThese moments provide a safe space for connecting with yourself\, sharing\, and gaining self-awareness. \nA  Mini-Family Constellations Session. \nLocation | Eco Retiro de Galamares\, Sintra \nFacilitators | Sofia Fonseca \nCost | €30 \nSign up at | info@ecolife-experience.com // 968 694 146
URL:https://ecolife-experience.com/calendario/resgate_ser-julho/
LOCATION:Eco Retiro de Galamares\, Galamares\, 2710-249 SINTRA\, Portugal
CATEGORIES:calendario,Lista,Sofia Fonseca,Workshops
ATTACH;FMTTYPE=image/jpeg:https://ecolife-experience.com/wp-content/uploads/2021/12/mike-erskine-S_VbdMTsdiA-unsplash-scaled.jpg
END:VEVENT
BEGIN:VEVENT
DTSTART;TZID=UTC:20240714T140000
DTEND;TZID=UTC:20240714T180000
DTSTAMP:20260421T120237
CREATED:20240126T112818Z
LAST-MODIFIED:20240509T085249Z
UID:11852-1720965600-1720980000@ecolife-experience.com
SUMMARY:Introdução à Impressão botânica em tecido e papel - Introduction to Botanical Printing on Fabric and Paper
DESCRIPTION:A impressão botânica é uma técnica que alia a arte têxtil à sustentabilidade\, sendo por isso um momento de slow living onde aprendemos a valorizar os recursos naturais envolventes. \nNa oficina\, vamos aprender\, fazendo\, conversar sobre as fibras\, como preparar os tecidos para a fixação\, saber como imprimir folhas e flores em tecido e papel\, e identificar plantas com capacidade tinturial. \nCada participante levará para casa impressos um saco\, um lenço e cartões\, e será capaz de replicar a técnica em criações upcycling ou não\, com apoio do mini guia digital. \nOficina ideal para curiosos e apaixonados por plantas! \nValor | 50 € (s/iva) \nLocal | Eco Retiro de Galamares\, Sintra \nInscrições | info@ecolife-experience.com // 968 694 146 \nFormadora | Helena Pedro – Desde criança que sou apaixonada por plantas e curiosa pelas suas formas\, cores e propriedades. Formei-me em Eng. do Ambiente e através do Ser Natureza promovo a conservação do reino vegetal\, dando a conhecer as suas potencialidades para um mundo mais sustentável! \nEN \nBotanical printing is a technique that combines textile art with sustainability\, making it a moment of slow living where we learn to appreciate the surrounding natural resources. \nIn the workshop\, we will learn by doing\, discussing fibers\, how to prepare fabrics for fixation\, understanding how to print leaves and flowers on fabric and paper\, and identifying plants with dyeing capabilities. \nEach participant will take home printed items such as a bag\, a scarf\, and cards\, and will be able to replicate the technique in upcycled or non-upcycled creations with the support of a mini digital guide. \nIdeal workshop for plant enthusiasts and the curious! \nCost: €50 (VAT not included) \nLocation: Eco Retreat Galamares\, Sintra \nRegistration: info@ecolife-experience.com // +351 968 694 146 \nInstructor: Helena Pedro – Since childhood\, I have been passionate about plants and curious about their shapes\, colors\, and properties. I graduated in Environmental Engineering\, and through Ser Natureza\, I promote the conservation of the plant kingdom\, showcasing its potential for a more sustainable world!
URL:https://ecolife-experience.com/calendario/workshop-impressao-botanica-em-tecido-e-papel-jun/
LOCATION:Eco Retiro de Galamares\, Galamares\, 2710-249 SINTRA\, Portugal
CATEGORIES:calendario,Lista,Workshops
ATTACH;FMTTYPE=image/jpeg:https://ecolife-experience.com/wp-content/uploads/2023/03/IMG-20220327-WA0024.jpg
END:VEVENT
END:VCALENDAR